BEGIN:VCALENDAR
VERSION:2.0
PRODID:-//Kulturzentrum3Klang - ECPv4.4.4//NONSGML v1.0//EN
CALSCALE:GREGORIAN
METHOD:PUBLISH
X-WR-CALNAME:Kulturzentrum3Klang
X-ORIGINAL-URL:https://www.kulturzentrum3klang.de
X-WR-CALDESC:Events for Kulturzentrum3Klang
BEGIN:VEVENT
DTSTART;TZID=Europe/Berlin:20190511T100000
DTEND;TZID=Europe/Berlin:20190511T170000
DTSTAMP:20260419T172059
CREATED:20190424T071744Z
LAST-MODIFIED:20190424T071806Z
UID:3970-1557568800-1557594000@www.kulturzentrum3klang.de
SUMMARY:Workshop mit dem Klangkünstler Jochen Fassbender
DESCRIPTION:Der Workshop:\n\nKlopfe an den Himmel und lausche dem Klang- ein Improvisationsworkshop. \nEs geht in diesem Kurs darum frei nach Phantasie und Empfinden zu spielen\, feinen\, lang nachschwingenden Klängen bis in die Stille hinein zu lauschen\, die Wirkung der Musik bewusst zu erleben\, ein neues Hören zu erlernen. Wir werden auf vielen unterschiedlichen Musikinstrumenten spielen\, die Jochen Fassbender selbst entwickelt hat: Lithophone\, Röhrenglockenspiele\, Metallharfen\, Ballastsaiten\, Obertonflöten... Instrumente aus Metall\, Stein\, Glas\, Keramik oder Holz zum Anschlagen\, Reiben\, Streichen oder Blasen. Die Klangobjekte\, die auf verschiedenste Weise anschlagen\, gerieben\, gestrichen oder angeblasen werden\, zeigen Klangeigenschaften\, die wir nicht für möglich gehalten hätten. Ein unendlich breites Spektrum an Klangmöglichkeiten tut sich auf ausgelöst durch Verschiedenheit in Material und Form\, durch Resonanzen und die Art der Klangerzeugung. Wir erleben\, wie die Schulung eines wachen Hörens uns seelisch und geistig bereichert uns tiefe Freude schenken kann. In jedem Menschen steckt ein Musiker mit einem Gespür für musikalische Schönheit.\n\nAnmeldung über diese Website (siehe unten).\n\nKursgebühr: 30\,-€ \n\nDer Kurs findet ab 10 Teilnehmern statt.\n\n
URL:https://www.kulturzentrum3klang.de/veranstaltungen/workshop-mit-dem-klangkuenstler-jochen-fassbender/
ATTACH;FMTTYPE=image/jpeg:https://www.kulturzentrum3klang.de/wp-content/uploads/2018/11/faßbender.jpg
END:VEVENT
END:VCALENDAR