BEGIN:VCALENDAR
VERSION:2.0
PRODID:-//Kulturzentrum3Klang - ECPv4.4.4//NONSGML v1.0//EN
CALSCALE:GREGORIAN
METHOD:PUBLISH
X-WR-CALNAME:Kulturzentrum3Klang
X-ORIGINAL-URL:https://www.kulturzentrum3klang.de
X-WR-CALDESC:Events for Kulturzentrum3Klang
BEGIN:VEVENT
DTSTART;TZID=Europe/Berlin:20171224T100000
DTEND;TZID=Europe/Berlin:20171224T100000
DTSTAMP:20260420T060329
CREATED:20171005T214523Z
LAST-MODIFIED:20171007T213106Z
UID:1422-1514109600-1514109600@www.kulturzentrum3klang.de
SUMMARY:Weihnachtsoratorium in Freiburg Herdern\, mitveranstaltet vom Kulturzentrum3klang
DESCRIPTION:Das sehr beliebte Weihnachtsoratorium von Johann Sebastian Bach\, veranstaltet vom Kulturzentrum3klang und dem Freiburger Chor der Ludwigskirche\, wird am 23.12.2017 um 19:00 Uhr in der Martinskirche Müllheim und am 24.12.2017 um 10:00 Uhr in der Ludwigskirche Freiburg Herdern unter der Leitung von Christian Drengk aufgeführt. Es werden die Teile 1-3 und Teil 6 zu hören sein.
URL:https://www.kulturzentrum3klang.de/veranstaltungen/weihnachtsoratorium-in-freiburg-herdern-mitveranstaltet-vom-kulturzentrum3klang/
END:VEVENT
END:VCALENDAR