BEGIN:VCALENDAR
VERSION:2.0
PRODID:-//Kulturzentrum3Klang - ECPv4.4.4//NONSGML v1.0//EN
CALSCALE:GREGORIAN
METHOD:PUBLISH
X-WR-CALNAME:Kulturzentrum3Klang
X-ORIGINAL-URL:https://www.kulturzentrum3klang.de
X-WR-CALDESC:Events for Kulturzentrum3Klang
BEGIN:VEVENT
DTSTART;TZID=Europe/Berlin:20190713T200000
DTEND;TZID=Europe/Berlin:20190713T200000
DTSTAMP:20260419T154349
CREATED:20190602T212239Z
LAST-MODIFIED:20190708T163941Z
UID:4198-1563048000-1563048000@www.kulturzentrum3klang.de
SUMMARY:Vortrag mit Marcus Schneider "Weltmacht Raphael" über die Schule von Athen (1509)
DESCRIPTION:Wir freuen uns\, innerhalb unseres Europa Festival Italien\, Ihnen einen hoch interessanten Vortrag bieten zu dürfen\, über ein Thema\, welches der berühmte italienische Maler Raphael 1509 als Fresko in der Stanza della Segnatura des Vatikans für Papst Julius II. anfertigte.\n\nDer Referent\, Marcus Schneider\, spricht über die Bedeutung Raphaels für die ganze Weltentwicklung. Der thematische Schwerpunkt liegt auf der philosophischen Denkschule des antiken Griechenland. Platon und Aristoteles sind im Zentrum des Gemäldes "Die Schule von Athen" von Raphael (1510)\, zwei Philosophen\, die den Ursprung der Europäischen Kultur bilden.\n\nDas Gemälde wird als Druck präsent sein.\n\n \n\n\n\nMarcus Schneider\, geb. 1954 in Basel\, Studium der Phil. I und Musik (Pianist).\n\n18 Jahre Klassenlehrer der Rudolf Steiner Schule in Basel und Autor zahlreicher Publikationen.\n\nCo- Leiter der Akademie für Anthr. Pädagogik in Dornach und Vorsitzender des Paracelsus-Zweiges in Basel.\n\n \n\nEintritt: 10\,00 Euro\n\n 
URL:https://www.kulturzentrum3klang.de/veranstaltungen/vortrag-mit-marcus-schneider-weltmacht-raphael-ueber-die-schule-von-athen-1509/
ATTACH;FMTTYPE=image/jpeg:https://www.kulturzentrum3klang.de/wp-content/uploads/2019/06/jp10u86hrgpYLm3oqhJs.jpeg
END:VEVENT
END:VCALENDAR