BEGIN:VCALENDAR
VERSION:2.0
PRODID:-//Kulturzentrum3Klang - ECPv4.4.4//NONSGML v1.0//EN
CALSCALE:GREGORIAN
METHOD:PUBLISH
X-WR-CALNAME:Kulturzentrum3Klang
X-ORIGINAL-URL:https://www.kulturzentrum3klang.de
X-WR-CALDESC:Events for Kulturzentrum3Klang
BEGIN:VEVENT
DTSTART;TZID=Europe/Berlin:20181117T190000
DTEND;TZID=Europe/Berlin:20181117T190000
DTSTAMP:20260420T012416
CREATED:20180808T173319Z
LAST-MODIFIED:20181024T193410Z
UID:2746-1542481200-1542481200@www.kulturzentrum3klang.de
SUMMARY:Wie der Klang die Welt gestaltet
DESCRIPTION:Was bewegt\, was gestaltet die Welt?\n\nMit diesen Fragen hat sich Hans Jenny\, als Arzt\, Künstler\, Forscher und Begründer der Kymatik intensiv auseinandergesetzt. Er bezog sich direkt auf Chladni\, einem Zeitgenossen Goethes\, der die Phänomene der sich im Tonfeld ordnenden Stofflichkeit\, beschrieb und systematisch untersuchte.\n\nIn diesem Vortrag wollen wir mit Ihnen einen Weg beschreiten\, anhand zahlreicher Experimente\, die auch gemeinsam mit den Zuhörern durchgeführt werden:\n\nAusgehend von den Chladnischen Klangfiguren\, dem Eidophone der englischen Sängerin Margaret Watts Hughes und Experimenten nach Hans Jenny.\n\nIlka Schmidt-Schenk (Dipl. Orchestermusikerin)\, Michael Seeberger (Waldorflehrer) und Harald Hobelsberger (Ingenieur) laden Sie herzlich zu diesen Experimenten und sichtbaren Eindrücken ein.\n\nwww.schule-fuer-kymatik.org\nEintritt: 15 Euro
URL:https://www.kulturzentrum3klang.de/veranstaltungen/vortrag-mit-klaengen-zum-experimentieren/
ATTACH;FMTTYPE=image/jpeg:https://www.kulturzentrum3klang.de/wp-content/uploads/2018/08/cymatics.jpg
END:VEVENT
END:VCALENDAR