BEGIN:VCALENDAR
VERSION:2.0
PRODID:-//Kulturzentrum3Klang - ECPv4.4.4//NONSGML v1.0//EN
CALSCALE:GREGORIAN
METHOD:PUBLISH
X-WR-CALNAME:Kulturzentrum3Klang
X-ORIGINAL-URL:https://www.kulturzentrum3klang.de
X-WR-CALDESC:Events for Kulturzentrum3Klang
BEGIN:VEVENT
DTSTART;TZID=Europe/Berlin:20170317T200000
DTEND;TZID=Europe/Berlin:20170317T220000
DTSTAMP:20260420T123507
CREATED:20170313T192020Z
LAST-MODIFIED:20170404T215056Z
UID:209-1489780800-1489788000@www.kulturzentrum3klang.de
SUMMARY:Via Musica - Via Nautica
DESCRIPTION:Konzertanter Reisebericht mit\nNatalija Hormuth\, Sopran\nDominik Hormuth\, Klavier\n\n\n\nEin Jahr lang mit dem Segelboot unterwegs im Mittelmeer – auf Entdeckungsreise mit zwei schulpflichtigen Kindern (9 und 7)\, einem E-Piano und großer Neugierde und Offenheit. Während der Reise gaben die beiden Freiburger Künstler Konzerte und nahmen eine CD mit Arien & Liedern des italienischen Belcanto auf.\n\n\n\nJetzt erzählen sie in Bild\, Wort und Musik von ihren faszinierenden Erlebnissen und Einsichten.\n\nEintritt 15\,-€
URL:https://www.kulturzentrum3klang.de/veranstaltungen/via-musica-via-nautica/
LOCATION:Doretmatt 2\, Laufen\, 79295
CATEGORIES:Konzerte
ATTACH;FMTTYPE=image/jpeg:https://www.kulturzentrum3klang.de/wp-content/uploads/2017/03/via_musica_1.jpg
END:VEVENT
END:VCALENDAR