BEGIN:VCALENDAR
VERSION:2.0
PRODID:-//Kulturzentrum3Klang - ECPv4.4.4//NONSGML v1.0//EN
CALSCALE:GREGORIAN
METHOD:PUBLISH
X-WR-CALNAME:Kulturzentrum3Klang
X-ORIGINAL-URL:https://www.kulturzentrum3klang.de
X-WR-CALDESC:Events for Kulturzentrum3Klang
BEGIN:VEVENT
DTSTART;TZID=Europe/Berlin:20161126T200000
DTEND;TZID=Europe/Berlin:20161126T200000
DTSTAMP:20260420T121910
CREATED:20170407T142314Z
LAST-MODIFIED:20170407T142314Z
UID:436-1480190400-1480190400@www.kulturzentrum3klang.de
SUMMARY:Sommerherz – Musiktheater
DESCRIPTION:Ein Musiktheater mit Live Projektionen und Musik von F. Chopin.\nMit Mariage Brüning.\n\nEintritt: 15\,- Euro
URL:https://www.kulturzentrum3klang.de/veranstaltungen/sommerherz-musiktheater/
LOCATION:Doretmatt 2\, Laufen\, 79295
CATEGORIES:Konzerte
END:VEVENT
END:VCALENDAR