BEGIN:VCALENDAR
VERSION:2.0
PRODID:-//Kulturzentrum3Klang - ECPv4.4.4//NONSGML v1.0//EN
CALSCALE:GREGORIAN
METHOD:PUBLISH
X-WR-CALNAME:Kulturzentrum3Klang
X-ORIGINAL-URL:https://www.kulturzentrum3klang.de
X-WR-CALDESC:Events for Kulturzentrum3Klang
BEGIN:VEVENT
DTSTART;TZID=Europe/Berlin:20190330T200000
DTEND;TZID=Europe/Berlin:20190330T200000
DTSTAMP:20260419T191327
CREATED:20190111T200543Z
LAST-MODIFIED:20190121T114035Z
UID:3401-1553976000-1553976000@www.kulturzentrum3klang.de
SUMMARY:Solo-Bratschist der Bayerischen Staatsoper München und die Gitarristin Radmila Besic
DESCRIPTION:Erleben Sie die ungewöhnliche und schöne Kombination von Bratsche und Gitarre mit ausgewählten Werken der Klassik\, Romantik und Moderne.\n\nProgramm Gitarre/Bratsche\n\nM. Giuliani -  Variationi sull'aria "La biondina in gondoletta"\n   (1781-1829)\n\n\n\n\n\nCh. Doisy  - Duo Nr.2  pour Guitare et Alto\n    (?-1807)\n\n\n  E. Elgar - Salut d'amor\n    (1857-1934)\n\n\n\n\n\nF. Schubert  - Sonate "Arpeggione"\n    (1797-1827)\n\n\n\n\n\nI. Albeniz - Tango\n    (1860- 1909)\n\n\nE. Satie - Je te Veux\n\n    (1866-1925)\n\n\n\n\n\nA. Piazzolla  - Libertango\n\n     (1921- 1992)\n\n\n A. Piazzolla - Oblivion\n   (1921- 1992)\n\nDietrich Cramer\, 1. Solobratschist der Bayerischen Staatsoper München\, spielt eine 450 Jahre alte Caspar da Salo Bratsche und lässt auch die selten gespielte Viola d´Amore erklingen.\n\nDie Kroatin Radmila Besic studierte Gitarre an der Hochschule für Musik in München und setzte ihr Studium in den USA fort. Radmila Besic ist solistisch und kammermusikalisch im In- und Ausland tätig. Auftritte in Rundfunk und Fernsehn unterstreichen ihr musikalisches Können.\n\n \n\n\n\nEintritt: 15 Euro
URL:https://www.kulturzentrum3klang.de/veranstaltungen/solo-bratschist-der-bayerischen-staatsoper-muenchen-und-die-gitarristin-radmila-besic/
ATTACH;FMTTYPE=image/jpeg:https://www.kulturzentrum3klang.de/wp-content/uploads/2019/01/ludm.jpeg
END:VEVENT
END:VCALENDAR