BEGIN:VCALENDAR
VERSION:2.0
PRODID:-//Kulturzentrum3Klang - ECPv4.4.4//NONSGML v1.0//EN
CALSCALE:GREGORIAN
METHOD:PUBLISH
X-WR-CALNAME:Kulturzentrum3Klang
X-ORIGINAL-URL:https://www.kulturzentrum3klang.de
X-WR-CALDESC:Events for Kulturzentrum3Klang
BEGIN:VEVENT
DTSTART;TZID=Europe/Berlin:20171118T193000
DTEND;TZID=Europe/Berlin:20171118T193000
DTSTAMP:20260420T053653
CREATED:20170801T193723Z
LAST-MODIFIED:20171025T105911Z
UID:937-1511033400-1511033400@www.kulturzentrum3klang.de
SUMMARY:Premiere- Konzertante Lesung- Dr. Schiwago oder 100 Jahre Oktoberrevolution
DESCRIPTION:\n\nNatalia Herrera und Dirk Schröter lesen und sprechen zu zweit. Sie bearbeiten gemeinsame Solo-Programme im Spannungsfeld zwischen Theater\, Chanson und Liederabend. Die beiden Schauspieler entwickeln spannende neue Formate für Lesungen aller Art.\n\nWeitere Infos unter:\n\nhttps://bremer-stadtmusikanten.jimdo.com\n\nPremiere DR. SCHIWAGO ODER 100 JAHRE OKTOBERREVOLUTION\n\nPasternaks Roman DR. SCHIWAGO\, für den er 1958 mit dem Literatur-Nobelpreis ausgezeichnet wurde\, beginnt im Jahr 1903 und endet 1929 mit dem Tod des Protagonisten. Mit dieser Titelfigur hat ein neuer Typus die literarische Welt-Bühne betreten: Ein Mann von der Größe eines Don Quijote\, Falstaff\, Faust oder König Lear\, der nicht geduckt unter den Ideologien lebt\, sondern über diese hinausragt\, um die ewige Luft der Freiheit zu atmen – was ihn\, den jungen Arzt\, jedoch nicht dazu befähigte sein Leben in einem totalitären Staat zu meistern. Meisterhaft gespielt wurde die Figur des Schiwago in David Leans monumentaler Verfilmung 1965 von dem ebenso legendären Omar Sharif. Der gigantische Erfolg dieses Filmklassikers (einer der größten Kassenhits des Jahrzehnts) etablierte Sharif als internationalen Top-Star und Frauenschwarm.  Beiden Helden soll im Rahmen des Literatur-Cafés im Wallgraben Theater nachgegangen werden…\n\nEintritt 15\,-€
URL:https://www.kulturzentrum3klang.de/veranstaltungen/premiere-konzertante-lesung-dr-schiwago-oder-100-jahre-oktoberrevolution/
ATTACH;FMTTYPE=image/jpeg:https://www.kulturzentrum3klang.de/wp-content/uploads/2017/08/Herrera.jpg
END:VEVENT
END:VCALENDAR