BEGIN:VCALENDAR
VERSION:2.0
PRODID:-//Kulturzentrum3Klang - ECPv4.4.4//NONSGML v1.0//EN
CALSCALE:GREGORIAN
METHOD:PUBLISH
X-WR-CALNAME:Kulturzentrum3Klang
X-ORIGINAL-URL:https://www.kulturzentrum3klang.de
X-WR-CALDESC:Events for Kulturzentrum3Klang
BEGIN:VEVENT
DTSTART;TZID=Europe/Berlin:20171221T170000
DTEND;TZID=Europe/Berlin:20171221T170000
DTSTAMP:20260420T053951
CREATED:20171124T075333Z
LAST-MODIFIED:20171212T191836Z
UID:1700-1513875600-1513875600@www.kulturzentrum3klang.de
SUMMARY:Oberuferer Christgeburtsspiel für Kinder ab 6 Jahren und Erwachsene
DESCRIPTION:\n\nDas Oberuferer Christgeburtsspiel stammt seinem Ursprung nach aus dem Mittelalter und wurde Mitte des 19. Jahrhunderts in Oberufer wiederentdeckt und in diesem ungarisch- deutschen Dorf von den Dorfbewohnern aufgeführt. Das Spiel hat humorvolle\, volkstümliche Elemente\, ebenso ernsthafte Momente. Es wird original in einem donau-schwäbischen Dialekt gesprochen\, was diesem Spiel noch eine besondere Note verleiht.\n\nEintritt frei\, Spenden sind erwünscht\n\nAnmeldungen über den unteren Link sind erwünscht\, damit wir besser planen können.\n\n 
URL:https://www.kulturzentrum3klang.de/veranstaltungen/oberuferer-christgeburtsspiel-fuer-kinder-ab-6-jahren-und-erwachsene/
END:VEVENT
END:VCALENDAR