BEGIN:VCALENDAR
VERSION:2.0
PRODID:-//Kulturzentrum3Klang - ECPv4.4.4//NONSGML v1.0//EN
CALSCALE:GREGORIAN
METHOD:PUBLISH
X-WR-CALNAME:Kulturzentrum3Klang
X-ORIGINAL-URL:https://www.kulturzentrum3klang.de
X-WR-CALDESC:Events for Kulturzentrum3Klang
BEGIN:VEVENT
DTSTART;TZID=Europe/Berlin:20171126T170000
DTEND;TZID=Europe/Berlin:20171126T170000
DTSTAMP:20260420T073548
CREATED:20171005T123355Z
LAST-MODIFIED:20171005T123355Z
UID:1402-1511715600-1511715600@www.kulturzentrum3klang.de
SUMMARY:Musik und Erzählung- Der Tod und das Mädchen von Franz Schubert
DESCRIPTION:An diesem Abend werden zwei Sätze aus dem berühmten Streichquartett "Der Tod und das Mädchen" von Franz Schubert gespielt.\n\nDer "Tod" wird an diesem Totensonntag thematisiert in Form von Märchenerzählungen und anschließendem Austausch\, in den das Publikum mit einbezogen wird.\n\nMärchenerzähler: Robert Steger\n\nEintritt: 8\,-€
URL:https://www.kulturzentrum3klang.de/veranstaltungen/musik-und-erzaehlung-der-tod-und-das-maedchen-von-franz-schubert/
END:VEVENT
END:VCALENDAR