BEGIN:VCALENDAR
VERSION:2.0
PRODID:-//Kulturzentrum3Klang - ECPv4.4.4//NONSGML v1.0//EN
CALSCALE:GREGORIAN
METHOD:PUBLISH
X-WR-CALNAME:Kulturzentrum3Klang
X-ORIGINAL-URL:https://www.kulturzentrum3klang.de
X-WR-CALDESC:Events for Kulturzentrum3Klang
BEGIN:VEVENT
DTSTART;TZID=Europe/Berlin:20251207T170000
DTEND;TZID=Europe/Berlin:20251207T170000
DTSTAMP:20260420T104846
CREATED:20251002T222002Z
LAST-MODIFIED:20251204T204535Z
UID:10241-1765126800-1765126800@www.kulturzentrum3klang.de
SUMMARY:Meditative Lautenmusik mit Gesang zum 2.Advent bei Kerzenschein
DESCRIPTION:Das Ensemble Sospiro Antico verbindet in seinem Programm De Adventu  Alte und Neue Musik. Dabei fassen sie die Zeit des Advents als einen verheißungsvollen Raum zwischen Ort und Dort\, Ankündigung und Ankunft\, Dunkel und Licht\, Ich und Du auf\, den sie musikalisch begehen möchten.\n\nNeben Werken von Hieronymus Kapsberger\, Claudio Monteverdi\, Karlheins Stockhausen\, Mathias Spahlinger und Alejandro Galiano-Zurbriggen erklingen alte adventliche und weihnachtliche Melodien.\n\nDie lyrische Sopranistin Saskia Iris Saegeler studierte im Bachelor-Studium bei Prof. Alexandra Coku und Clemens Morgenthaler an der Staatlichen Hochschule für Musik Trossingen. Um ihrer Liebe für die Musik des 16. bis 18. Jahrhunderts intensiver nachzugehen\, setzte sie ihre Ausbildung im Masterstudium „Alte Musik“ bei Gundula Anders fort\, welches sie 2023 sehr erfolgreich abschloss.\n\nAmandine Affagard spielt Laute und erhielt ihren ersten Gitarrenunterricht im Alter von sechs Jahren in Bordeaux (Frankreich). Sie studierte an der Haute Ecole de Musique in Genf (Schweiz) bei dem Komponisten und Gitarristen Dusan Bogdanovic\, an der Hochschule für Musik Franz Liszt Weimar bei Prof. Thomas Müller-Pering\, an der Universität der Künste Berlin bei Björn Colell.\n\nAlejandro Galiano Zurbriggen spielt Laute\, wurde 1983 in Rosario\, Argentinien\, geboren. Im Alter von sechs Jahren begann er mit dem Geigenspiel und besuchte später private Jazzgitarrenkurse. Er schloss sein Kompositionsstudium an der Nationalen Universität von Cordoba (UNC) in Argentinien erfolgreich ab und besuchte außerdem private Kompositionskurse bei dem renommierten Komponisten Oscar Bazán. Zusätzlich zu seinem Studium als Komponist studierte er Jazzgitarre bei Prof. Daniel Corso. Als Gitarrist widmet er sich dem Repertoire der Neuen Musik mit dem Ensemble "Suono Mobile Argentinien".
URL:https://www.kulturzentrum3klang.de/veranstaltungen/meditative-lautenmusik-mit-gesang-zum-2-advent-bei-kerzenschein/
ATTACH;FMTTYPE=image/png:https://www.kulturzentrum3klang.de/wp-content/uploads/2025/10/Laute-Affagard.png
END:VEVENT
END:VCALENDAR