BEGIN:VCALENDAR
VERSION:2.0
PRODID:-//Kulturzentrum3Klang - ECPv4.4.4//NONSGML v1.0//EN
CALSCALE:GREGORIAN
METHOD:PUBLISH
X-WR-CALNAME:Kulturzentrum3Klang
X-ORIGINAL-URL:https://www.kulturzentrum3klang.de
X-WR-CALDESC:Events for Kulturzentrum3Klang
BEGIN:VEVENT
DTSTART;TZID=Europe/Berlin:20190418T150000
DTEND;TZID=Europe/Berlin:20190418T180000
DTSTAMP:20260419T171634
CREATED:20190313T132542Z
LAST-MODIFIED:20190313T132542Z
UID:3779-1555599600-1555610400@www.kulturzentrum3klang.de
SUMMARY:Malworkshop mit Laurence Liebenguth
DESCRIPTION:Gründonnerstag bietet Frau Laurence Liebenguth einen Malworkshop an\, der auf das bevorstehende Osterereignis einstimmen kann.\n\nKeinerlei Vorkenntnisse sind nötig\, jeder ist zum diesem Workshop herzlich eingeladen.\n\nKosten: 30\,00 Euro\n\nAnmeldung unter:\n\nBarbara Graf\n\ncellifamily@gmx.de\n\n0der\,\n\nLaurence.liebenguth@orange.fr\n\nTel.:0177.1468942
URL:https://www.kulturzentrum3klang.de/veranstaltungen/malworkshop-mit-laurence-liebenguth/
ATTACH;FMTTYPE=image/jpeg:https://www.kulturzentrum3klang.de/wp-content/uploads/2019/03/Dp9wVtkxu-7T4mAp75Z.jpeg
END:VEVENT
END:VCALENDAR