BEGIN:VCALENDAR
VERSION:2.0
PRODID:-//Kulturzentrum3Klang - ECPv4.4.4//NONSGML v1.0//EN
CALSCALE:GREGORIAN
METHOD:PUBLISH
X-WR-CALNAME:Kulturzentrum3Klang
X-ORIGINAL-URL:https://www.kulturzentrum3klang.de
X-WR-CALDESC:Events for Kulturzentrum3Klang
BEGIN:VEVENT
DTSTART;VALUE=DATE:20171007
DTEND;VALUE=DATE:20171008
DTSTAMP:20260420T071114
CREATED:20170827T131359Z
LAST-MODIFIED:20171010T091625Z
UID:1243-1507334400-1507507199@www.kulturzentrum3klang.de
SUMMARY:Laufener Ateliertage 07.10.2017\, Ausstellungen im Kulturzentrum3klang
DESCRIPTION:Am 7. und 8. Oktober finden die Sulzburg-Laufener Ateliertage von 11:00-18:00 Uhr statt. Im Konzertsaal des Kulturzentrums stellen einige Künstler der Ateliergruppe vom KunstPalais Badenweiler e.V. aus. Micaela Bauer und Gerlinde Dettling geben Einblicke in ihre Ateliers. Elisabeth Dörr zeigt Skulturen in Stein und Bronce und Friedr Schneider überrascht uns mit Fotografie-Malerei-SubstART.\n\nKünstler:\n\nMicaela Bauer\, Malerei\nGerlinde Dettling\, Malerei\nElisabeth Dörr\, Skulpturen\nFriedr Schneider\, Fotografie-Malerei\nFriedemann Hergarten\, Glasbilder\nKunstpalais Badenweiler e.V.\, Werke der Ateliergruppe
URL:https://www.kulturzentrum3klang.de/veranstaltungen/laufener-ateliertage-07-08-10-ausstellungen-im-kulturzentrum3klang/
ATTACH;FMTTYPE=image/jpeg:https://www.kulturzentrum3klang.de/wp-content/uploads/2017/08/Laufen.jpg
END:VEVENT
END:VCALENDAR