BEGIN:VCALENDAR
VERSION:2.0
PRODID:-//Kulturzentrum3Klang - ECPv4.4.4//NONSGML v1.0//EN
CALSCALE:GREGORIAN
METHOD:PUBLISH
X-WR-CALNAME:Kulturzentrum3Klang
X-ORIGINAL-URL:https://www.kulturzentrum3klang.de
X-WR-CALDESC:Events for Kulturzentrum3Klang
BEGIN:VEVENT
DTSTART;TZID=Europe/Berlin:20170525T100000
DTEND;TZID=Europe/Berlin:20170525T180000
DTSTAMP:20260420T091733
CREATED:20170513T110733Z
LAST-MODIFIED:20170519T154739Z
UID:699-1495706400-1495735200@www.kulturzentrum3klang.de
SUMMARY:Kulturoase am Gutedeltag
DESCRIPTION:\nDer Gutedel-Tag ist die größte Gutedel-Weinprobe der Welt auf der Badischen\nWeinstraße. Zu diesem Anlass wird die Straße von Staufen bis Müllheim für motorisierte\nFahrzeuge von 10:00  bis 18:00 Uhr gesperrt und in eine „Flaniermeile“ verwandelt.\nUnterwegs gibt es neben Weinproben und kulinarischen Köstlichkeiten auch Musik in\nverschiedenen Stilrichtungen und vieles mehr...\n\nDas Kulturzentrum3klang beteiligt sich an diesem Tag mit einer „Kulturoase“.\n\n\n\nUnser Angebot:\n\n-Film von einem Konzert mit 40 Cellisten\n-Spiele für Groß und Klein\n-12:00-12:30 und 14:00-14:30 Uhr Feldenkrais Schnupperkurse mit Ingeborg Dahlke\n-16:00 Uhr Märchenstunde für alle mit dem bekannten Märchenerzähler Robert Steger\n-Celloakademie: Celli für Kinder und Erwachsene zum Ausprobieren unter Anleitung
URL:https://www.kulturzentrum3klang.de/veranstaltungen/kulturoase-am-gutedeltag/
END:VEVENT
END:VCALENDAR