BEGIN:VCALENDAR
VERSION:2.0
PRODID:-//Kulturzentrum3Klang - ECPv4.4.4//NONSGML v1.0//EN
CALSCALE:GREGORIAN
METHOD:PUBLISH
X-WR-CALNAME:Kulturzentrum3Klang
X-ORIGINAL-URL:https://www.kulturzentrum3klang.de
X-WR-CALDESC:Events for Kulturzentrum3Klang
BEGIN:VEVENT
DTSTART;TZID=Europe/Berlin:20171203T190000
DTEND;TZID=Europe/Berlin:20171203T190000
DTSTAMP:20260420T073220
CREATED:20170827T134225Z
LAST-MODIFIED:20171012T144941Z
UID:1256-1512327600-1512327600@www.kulturzentrum3klang.de
SUMMARY:1. Kerzenscheinkonzert im Advent
DESCRIPTION:Am 1. Advent findet unser 1. Kerzenscheinkonzert statt. Der Saal wird nur von Kerzenlicht beleuchtet sein\, während der international bekannte spanische Pianist Josep Colom Werke u.a. von J.S. Bach und F. Chopin spielen wird.\n\nNähere Infos zum Programm folgen in Kürze...\n\nEintritt 15\,-€
URL:https://www.kulturzentrum3klang.de/veranstaltungen/konzert-mit-josep-colom-rincon/
ATTACH;FMTTYPE=image/jpeg:https://www.kulturzentrum3klang.de/wp-content/uploads/2017/08/Josep-colom.jpg
END:VEVENT
END:VCALENDAR