BEGIN:VCALENDAR
VERSION:2.0
PRODID:-//Kulturzentrum3Klang - ECPv4.4.4//NONSGML v1.0//EN
CALSCALE:GREGORIAN
METHOD:PUBLISH
X-WR-CALNAME:Kulturzentrum3Klang
X-ORIGINAL-URL:https://www.kulturzentrum3klang.de
X-WR-CALDESC:Events for Kulturzentrum3Klang
BEGIN:VEVENT
DTSTART;TZID=Europe/Berlin:20190510T200000
DTEND;TZID=Europe/Berlin:20190510T200000
DTSTAMP:20260419T185424
CREATED:20181119T104651Z
LAST-MODIFIED:20190424T071906Z
UID:3266-1557518400-1557518400@www.kulturzentrum3klang.de
SUMMARY:Konzert mit dem Klangkünstler Jochen Faßbender
DESCRIPTION:Mit neuartigen Klangobjekten aus Glas\, Stein und Metall führt er seine Zuhörer in "unerhörte" Welten.\n"Die Kombination der verschiedenen Instrumente bringt eine Klangfülle in den Raum\, die mit\nherkömmlichen Musikinstrumenten nicht erreichbar ist. Der Instrumentenmacher und Musiker ist ganz einfach ein ganz besonderer Künstler\, wie man sie heute nur sehr selten antrifft. Klopfe an den Himmel und lausche dem Klang ein Improvisationsworkshop. Es geht in diesem Kurs darum frei nach Phantasie und Empfinden zu spielen\, feinen\, lang nachschwingenden Klängen bis in die Stille hinein zu lauschen\, die Wirkung der Musik bewusst zu erleben\, ein neues Hören zu erlernen. Wir werden auf vielen unterschiedlichen Musikinstrumenten spielen\, die Jochen Fassbender selbst entwickelt hat: Lithophone\, Röhrenglockenspiele\,\n\n\n\n\n\nMetallharfen\, Ballastsaiten\, Obertonflöten... Instrumente aus Metall\, Stein\, Glas\, Keramik\n\n\noder Holz zum Anschlagen\, Reiben\, Streichen oder Blasen. Die Klangobjekte\, die auf verschiedenste Weise anschlagen\, gerieben\, gestrichen oder angeblasen werden\, zeigen Klangeigenschaften\, die wir nicht für möglich gehalten hätten. Ein unendlich breites Spektrum an Klangmöglichkeiten tut sich auf ausgelöst durch Verschiedenheit in Material und Form\, durch Resonanzen und die Art der Klangerzeugung. Wir erleben\, wie die Schulung eines wachen Hörens uns seelisch und geistig bereichert uns tiefe Freude schenken kann. In jedem Menschen steckt ein Musiker mit einem Gespür für musikalische Schönheit.\n\nDer Workshopleiter Jochen Fassbender ist Klangkünstler. Seit 1988 forscht er nach neuen Klangmöglichkeiten\, baut und entwickelt neuartige Musikinstrumente und Klangobjekte\, gibt Kurse und Konzerte. Er ist Dozent am Institut für Audiopädie in Witten\, einer Einrichtung mit dem Ziel\, in einer immer lauter werdenden Welt Wege zu bewussterem Hören zu erforschen und aufzuzeigen.\n\n\n\n\n\n\n\n\n\n\n\n\n\n\n\n\n\n\n\n\n \t 1957 in Köln geboren\n \t 1978 – 1982 Studium der Freien Kunst an der Fachhochschule fürKunst und Design\n \t Seit 1989 intensive Beschäftigung mit der Klangkunst\n \t Forschungen an Klangphänomenen verschiedenster Materialien\,Formen\, Resonanzen und die Art der Klangerzeugung.  Entwicklung neuartiger Musikinstrumente\n \t Ausstellungen\, Konzerte und Kurse im In- und Ausland.  diverse Preise von der Stadt Sindelfingen\,     dem KunstvereinGeijsteren (Niederlande) und der Stiftung Lemmerz\n \t  Mitbegründer des Instituts für Audiopädie in Witten/ Ruhrgebiet\n \t  Seit 2008 Klangberater der Firma Richter- Spielgeräte\n \t  2014 - Veröffentlichung des Buches "Klangkunst und die Kunst desHörens" erschienen im Flensburger-Hefte-Verlag\n \t  seit 2018 Angebot einer Ausbildung im Klangdialog sowohl in Deutschland wie auch in China\n\nhttp://www.klangkunstfassbender.de\n\n\n\n\n\n\n\n\n\n\n\n\nEintritt: 15 Euro\n\n\n\n\n\n\n\nDer Workshop findet am Samstag\, den 11.05.2019 von 10:00- 17:00 Uhr statt. \n\n\n\n\n
URL:https://www.kulturzentrum3klang.de/veranstaltungen/konzert-mit-dem-klangkuenstler-jochen-fassbender/
ATTACH;FMTTYPE=image/jpeg:https://www.kulturzentrum3klang.de/wp-content/uploads/2018/11/faßbender.jpg
END:VEVENT
END:VCALENDAR