BEGIN:VCALENDAR
VERSION:2.0
PRODID:-//Kulturzentrum3Klang - ECPv4.4.4//NONSGML v1.0//EN
CALSCALE:GREGORIAN
METHOD:PUBLISH
X-WR-CALNAME:Kulturzentrum3Klang
X-ORIGINAL-URL:https://www.kulturzentrum3klang.de
X-WR-CALDESC:Events for Kulturzentrum3Klang
BEGIN:VEVENT
DTSTART;TZID=Europe/Berlin:20190326T200000
DTEND;TZID=Europe/Berlin:20190326T200000
DTSTAMP:20260419T185404
CREATED:20190111T200607Z
LAST-MODIFIED:20190124T211458Z
UID:3397-1553630400-1553630400@www.kulturzentrum3klang.de
SUMMARY:Konzert mit iranischer Musik
DESCRIPTION:Wir freuen uns\, Ihnen ein besonderes Konzert mit iranischer Musik mit Stimme\, Gitarre\, Klavier\, Percussion und Kontrabass bieten zu können.\nGolnar Shahyar\, iranische Sängerin\, Dirk Wochner\, Klavier\, Winfried Holzenkamp\, Kontrabass und Konrad Wiemann\, Percussion gestalten gemeinsam diesen musikalisch spannenden Abend.\n\nDie iranische Sängerin Golnar Shahyar ist in Teheran zur Zeit des Irak Krieges aufgewachsen. Trotz gesellschaftlicher und politischer Schwierigkeiten\, entscheidet sie sich\, Musikerin zu werden. Ihre Musik reicht vom orientalischen Tahir\, über afrikanisch beeinflusste Improvisationen\, spirituellen Gesang\, Flamenco\, Bossa Nova bis zur Jazzimprovisation. Zusammen mit ihrer starken Bühnenpräsenz\, bringt sie alles mit was eine große Musikerin ausmacht.\n\n\n\nEintritt: 15 Euro
URL:https://www.kulturzentrum3klang.de/veranstaltungen/konzert-mit-arabischer-musik-stimme-gitarre-und-percussion/
ATTACH;FMTTYPE=image/jpeg:https://www.kulturzentrum3klang.de/wp-content/uploads/2019/01/Arabisches-Konzert.jpg
END:VEVENT
END:VCALENDAR