BEGIN:VCALENDAR
VERSION:2.0
PRODID:-//Kulturzentrum3Klang - ECPv4.4.4//NONSGML v1.0//EN
CALSCALE:GREGORIAN
METHOD:PUBLISH
X-WR-CALNAME:Kulturzentrum3Klang
X-ORIGINAL-URL:https://www.kulturzentrum3klang.de
X-WR-CALDESC:Events for Kulturzentrum3Klang
BEGIN:VEVENT
DTSTART;TZID=Europe/Berlin:20170716T160000
DTEND;TZID=Europe/Berlin:20170716T160000
DTSTAMP:20260420T090847
CREATED:20170406T140042Z
LAST-MODIFIED:20170514T132340Z
UID:397-1500220800-1500220800@www.kulturzentrum3klang.de
SUMMARY:Sommerkonzert mit dem Kinderorchester des Theater Freiburgs- Leitung Angelika Asche
DESCRIPTION:\n\nKonzert zum Mitsingen und Zuhören. Früh übt sich\, wer Meister werden will- Begeisterung steckt an!\n\nDas Kinderorchester des Freiburger Theaters  (gegründet 2009) macht jedes Jahr ein Gastspiel in der weiteren oder näheren Region von Freiburg. Die Reisen führten schon auf die Insel Mainau (Schlosskirche)\, in das Kloster Maulbronn und nach Biesheim (Frankreich) u.a.\n\n\nIn diesem Jahr spielt das Kinderorchester erstmals  im Kulturzentrum3klang ein sommerliches Konzert. Es erklingen Lieder aus aller Welt sowie kleine Stücke von J.S. Bach\, Händel\, Mozart und Chopin. Das Konzert ist auch besonders für Kinder geeignet\, die sehen und hören wollen welche Instrumente es gibt.\nDie Kinder des Orchesters sind zwischen 7 und 12 Jahren. Die Leitung hat Angelika Asche.\n\nEintritt frei
URL:https://www.kulturzentrum3klang.de/veranstaltungen/konzert-des-freiburger-kinderorchesters-mit-angelika-asche/
LOCATION:Doretmatt 2\, Laufen\, 79295
CATEGORIES:Konzerte
ATTACH;FMTTYPE=image/jpeg:https://www.kulturzentrum3klang.de/wp-content/uploads/2017/04/THE5029.jpg
END:VEVENT
END:VCALENDAR