BEGIN:VCALENDAR
VERSION:2.0
PRODID:-//Kulturzentrum3Klang - ECPv4.4.4//NONSGML v1.0//EN
CALSCALE:GREGORIAN
METHOD:PUBLISH
X-WR-CALNAME:Kulturzentrum3Klang
X-ORIGINAL-URL:https://www.kulturzentrum3klang.de
X-WR-CALDESC:Events for Kulturzentrum3Klang
BEGIN:VEVENT
DTSTART;TZID=Europe/Berlin:20260424T170000
DTEND;TZID=Europe/Berlin:20260424T170000
DTSTAMP:20260420T104958
CREATED:20260110T151939Z
LAST-MODIFIED:20260209T184440Z
UID:10618-1777050000-1777050000@www.kulturzentrum3klang.de
SUMMARY:"König Drosselbart"\, Märchentheater für Kinder und Erwachsene
DESCRIPTION:Ein Märchentheater für Kinder ab 6 Jahren und Erwachsene...\nKönig Drosselbart – frei nach dem Grimmschen Märchen -\nerfrischendes\, klingendes\, humorvolles Märchentheater\nvon Katrin Breuer - ab 6 J\n\nDas Märchen vom König Drosselbart hat Kathrin Breuer inspiriert das Thema" Wandel" und "Schicksal" zu erforschen und daraus ein erfrischendes\, klingendes\, tiefgründiges und humorvolles Theaterstück zu kreieren.\n\n"Und schau ich auf die Zeit zurück\, sieh an\, mein Unglück war mein größtes Glück!"(Eugen Roth)\n\nKathrin Breuer ist seit 2012 mit dem Theaterduo "Compagnie Aventure" unterwegs und hat unterschiedliche Stücke gespielt\, in der Kleinkunstszene Schweiz und in Deutschland und nun hat sie eine eigene Compagnie gegründet und dieses Soloprogramm kreiert.\n\nEintritt: 15 Euro Erwachsene\, 5 Euro Kinder
URL:https://www.kulturzentrum3klang.de/veranstaltungen/koenig-drosselbart-maerchentheater-fuer-kinder-und-erwachsene/
ATTACH;FMTTYPE=image/jpeg:https://www.kulturzentrum3klang.de/wp-content/uploads/2026/01/IMG_2632-e1770662657246.jpg
END:VEVENT
END:VCALENDAR