BEGIN:VCALENDAR
VERSION:2.0
PRODID:-//Kulturzentrum3Klang - ECPv4.4.4//NONSGML v1.0//EN
CALSCALE:GREGORIAN
METHOD:PUBLISH
X-WR-CALNAME:Kulturzentrum3Klang
X-ORIGINAL-URL:https://www.kulturzentrum3klang.de
X-WR-CALDESC:Events for Kulturzentrum3Klang
BEGIN:VEVENT
DTSTART;TZID=Europe/Berlin:20181216T170000
DTEND;TZID=Europe/Berlin:20181216T170000
DTSTAMP:20260419T232700
CREATED:20181112T235726Z
LAST-MODIFIED:20181204T234441Z
UID:3229-1544979600-1544979600@www.kulturzentrum3klang.de
SUMMARY:Kerzenscheinkonzert zum 3. Advent mit W.A.Mozart\, J.S.Bach\, Weihnachtsliedersingen und  Vernissage
DESCRIPTION:An diesem 3. Advent erklingt das Streichquartett von W.A.Mozart in G-Dur KV 387 und  J.S.Bach Bearbeitungen der Flötensonate in Es-Dur\, sowie das Siciliano aus der Flötensonate in Es-Dur. Ausführende:\n\nEmma Errera\, Violine\n\nVerena Ehret\, Violine\n\nErika Cederio\, Viola\n\nBarbara Graf\, Cello\n\nEintritt: 15\,00 Euro\n\n \n\nGleichzeitig werden wir eine Doppelausstellung eröffnen:\n\nMargret Senn(Bilder) und Elisabeth Dörr (Skulpturen)\n\nMargret Senn: Ihre Arbeiten wollen nicht die Natur abbilden\, sich aber an der Natur orientieren. Die Einfachheit\, das Formempfinden\, die Bescheidenheit und die Wahrhaftigkeit werden gesucht. Dem Verzicht auf Vollständigkeit (Leere)\, dem Unaussprechlichen\, dem Geheimnisvollen gilt die Suche. "Das sinnlich Wahrnehmbare ist für mich ein Übergang. Dabei bin ich immer wieder auf der Suche nach etwas\, was im Hier und Jetzt nicht zu finden ist."\n\n \n\nElisabeth Dörr: "Das Spannende für mich ist das Entdeckten von neuen Formen\, die ich dann weiterentwickle. Die Natur ist dabei meine größte Inspirationsquelle."
URL:https://www.kulturzentrum3klang.de/veranstaltungen/kerzenscheinkonzert-zum-3-advent-mit-gemeinsamen-weihnachtsliedersingen/
ATTACH;FMTTYPE=image/jpeg:https://www.kulturzentrum3klang.de/wp-content/uploads/2018/11/IMG_1132-1.jpg
END:VEVENT
END:VCALENDAR