BEGIN:VCALENDAR
VERSION:2.0
PRODID:-//Kulturzentrum3Klang - ECPv4.4.4//NONSGML v1.0//EN
CALSCALE:GREGORIAN
METHOD:PUBLISH
X-WR-CALNAME:Kulturzentrum3Klang
X-ORIGINAL-URL:https://www.kulturzentrum3klang.de
X-WR-CALDESC:Events for Kulturzentrum3Klang
BEGIN:VEVENT
DTSTART;TZID=Europe/Berlin:20191201T170000
DTEND;TZID=Europe/Berlin:20191201T170000
DTSTAMP:20260419T123816
CREATED:20191023T145642Z
LAST-MODIFIED:20191023T145642Z
UID:4539-1575219600-1575219600@www.kulturzentrum3klang.de
SUMMARY:Kerzenscheinkonzert zum 1. Advent
DESCRIPTION:Wir freuen uns\, auch dieses Jahr wieder ein Hammerklavier Konzert mit Laure Colladant\, die uns im letzten Jahr mit ihrem äußerst sensiblen Spiel fasziniert hat\, wieder hören zu dürfen.\n\nAuf dem Programm stehen diesmal:\n\nF.Chopin\, J.Brahms und J.L.Dussek (1760-1812)\n\n \n\nEintritt: 15 Euro\n\n \n\n 
URL:https://www.kulturzentrum3klang.de/veranstaltungen/kerzenscheinkonzert-zum-1-advent/
ATTACH;FMTTYPE=image/jpeg:https://www.kulturzentrum3klang.de/wp-content/uploads/2019/10/Collodant-Hammerklavier.jpg
END:VEVENT
END:VCALENDAR