BEGIN:VCALENDAR
VERSION:2.0
PRODID:-//Kulturzentrum3Klang - ECPv4.4.4//NONSGML v1.0//EN
CALSCALE:GREGORIAN
METHOD:PUBLISH
X-WR-CALNAME:Kulturzentrum3Klang
X-ORIGINAL-URL:https://www.kulturzentrum3klang.de
X-WR-CALDESC:Events for Kulturzentrum3Klang
BEGIN:VEVENT
DTSTART;TZID=Europe/Berlin:20190419T170000
DTEND;TZID=Europe/Berlin:20190419T170000
DTSTAMP:20260421T084417
CREATED:20190207T120010Z
LAST-MODIFIED:20190419T090925Z
UID:3584-1555693200-1555693200@www.kulturzentrum3klang.de
SUMMARY:Karfreitag - "Die sieben letzten Worte..." J.Haydn
DESCRIPTION:\n\nDas Streichquartett von Josef Haydn\, "Die sieben letzten Worte des Erlösers am Kreuz"\, vertont in berührender Weise das Karfreitagsereignis.\n\nIm Anschluss an die Musik wird eine Bilderausstellung eröffnet mit dem Titel "Les Fleurs de Marie" (Die Blumen der Maria)\, die zu dem österlichen Thema passend sein wird. Die Bilder sind von Laurence Liebenguth.\n\n \n\nEs spielen:\n\nElena Graf\, 1. Violine (1. Konzertmeisterin Staatsoper Stuttgart)\n\nEmma Errera\, 2. Violine\n\nErica Cedeno\, Viola\n\nBarbara Graf\, Cello\n\n\n\nDer Eintritt ist frei\, um Spenden wird gebeten.
URL:https://www.kulturzentrum3klang.de/veranstaltungen/karfreitag-die-sieben-letzten-worte-j-haydn/
ATTACH;FMTTYPE=image/jpeg:https://www.kulturzentrum3klang.de/wp-content/uploads/2019/02/tableau-dautel-altarbildprojekt-detail-golgotha.jpg
END:VEVENT
END:VCALENDAR