BEGIN:VCALENDAR
VERSION:2.0
PRODID:-//Kulturzentrum3Klang - ECPv4.4.4//NONSGML v1.0//EN
CALSCALE:GREGORIAN
METHOD:PUBLISH
X-WR-CALNAME:Kulturzentrum3Klang
X-ORIGINAL-URL:https://www.kulturzentrum3klang.de
X-WR-CALDESC:Events for Kulturzentrum3Klang
BEGIN:VEVENT
DTSTART;TZID=Europe/Berlin:20191117T120000
DTEND;TZID=Europe/Berlin:20191117T120000
DTSTAMP:20260419T141223
CREATED:20190203T214750Z
LAST-MODIFIED:20191106T221605Z
UID:3560-1573992000-1573992000@www.kulturzentrum3klang.de
SUMMARY:Schubertquintett zur Jubiläumsfeier der Hospizbewegung Breisgau-Hochschwarzwald e.V.\, Regionalgruppe Markgräflerland
DESCRIPTION:Das Streichquintett von F.Schubert\, eines der größten Werke der Kammermusikliteratur\, sowie eine Bilderausstellung werden an diesem Sonntagvormittag\, den Rahmen dieser öffentlichen Jubiläumsfeier bilden.\n\nDie ausführenden Musiker sind Marie Sohler\, 1. Geige\,\n\nVerena Ehret\, 2. Geige\, Estelle (Klasse Wolfram Christ)\, Viola\, Barbara Graf und Olaf Niessing Cello.\n\nDie Künstlerin der Bilderausstellung wird anwesend sein und die ganze Veranstaltung ermöglicht tiefere Einblicke in eine Welt\, die unsere Welt unsichtbar durchdringt.\n\nAuch für das leibliche Wohl wird gesorgt sein.\n\nDer Eintritt ist frei\, Spenden sind willkommen.
URL:https://www.kulturzentrum3klang.de/veranstaltungen/jubilaeumsfeier-des-dachverbandes-der-hospitzgruppen-freiburg/
ATTACH;FMTTYPE=image/jpeg:https://www.kulturzentrum3klang.de/wp-content/uploads/2019/02/h4G1vzBCcdomVEavsvRb.jpeg
END:VEVENT
END:VCALENDAR