BEGIN:VCALENDAR
VERSION:2.0
PRODID:-//Kulturzentrum3Klang - ECPv4.4.4//NONSGML v1.0//EN
CALSCALE:GREGORIAN
METHOD:PUBLISH
X-WR-CALNAME:Kulturzentrum3Klang
X-ORIGINAL-URL:https://www.kulturzentrum3klang.de
X-WR-CALDESC:Events for Kulturzentrum3Klang
BEGIN:VEVENT
DTSTART;TZID=Europe/Berlin:20260125T110000
DTEND;TZID=Europe/Berlin:20260125T110000
DTSTAMP:20260420T104707
CREATED:20260110T153207Z
LAST-MODIFIED:20260110T153207Z
UID:10622-1769338800-1769338800@www.kulturzentrum3klang.de
SUMMARY:J.S.Bach - Kantaten\, Matineekonzert am Sonntag
DESCRIPTION:An diesem Sonntag Vormittag können Sie sich von J.S.Bach und G.F.Händel für die bevorstehende Woche inspirieren lassen.\n\nEs musizieren: Yael Birger\, Querflöte\n\nJohanna Schutzbach\, Sopran\n\nDaniel Graf\, Cembalo\n\nBarbara Graf\, Cello\n\nEintritt: Auf Spendenbasis
URL:https://www.kulturzentrum3klang.de/veranstaltungen/j-s-bach-kantaten-matineekonzert-am-sonntag/
ATTACH;FMTTYPE=image/jpeg:https://www.kulturzentrum3klang.de/wp-content/uploads/2026/01/images.jpg
END:VEVENT
END:VCALENDAR