BEGIN:VCALENDAR
VERSION:2.0
PRODID:-//Kulturzentrum3Klang - ECPv4.4.4//NONSGML v1.0//EN
CALSCALE:GREGORIAN
METHOD:PUBLISH
X-WR-CALNAME:Kulturzentrum3Klang
X-ORIGINAL-URL:https://www.kulturzentrum3klang.de
X-WR-CALDESC:Events for Kulturzentrum3Klang
BEGIN:VEVENT
DTSTART;TZID=Europe/Berlin:20190505T200000
DTEND;TZID=Europe/Berlin:20190505T200000
DTSTAMP:20260419T184931
CREATED:20190407T205359Z
LAST-MODIFIED:20190419T092218Z
UID:3882-1557086400-1557086400@www.kulturzentrum3klang.de
SUMMARY:Hindemith- Quartett
DESCRIPTION:Wir freuen uns sehr\, auch dieses Jahr wieder das Hindemith-Quartett aus Frankfurt bei uns begrüßen zu dürfen. Es wird u.a. eine Uraufführung besonderer Art zu hören sein: Das berühmte Bild der "Mona Lisa" wird zum ersten Mal in seiner Geschichte "vertont". Die Komponistin Anastasia Kadisa\, versucht mittels einer "Art Performance" das dem Bild der Mona Lisa zu Grunde liegende Geheimnis\, durch ihr Werk dem hörenden Betrachter näher zu bringen.\n\nWeiter steht auf dem Programm:\n\nJ.Haydn\, Quartett in D-Dur op. 76 Nr.5\n\nE Humperdinck (1854-1921)\, Quartett in C-Dur (Komponist der Oper "Hänsel und Gretel")\n\nP.J.Tschaikowsky\, Quartett op.11\n\nDas Hindemith-Quartett wurde 2008 aus Stimmführern der Frankfurter Oper gegründet.\n\nIngo de Haas\, 1.Violine\n\nJoachim Ulbrich\, 2.Violine\n\nThomas Rössel\, Viola\n\nDaniel Robert Graf\, Violoncello
URL:https://www.kulturzentrum3klang.de/veranstaltungen/hindemith-quartett/
ATTACH;FMTTYPE=image/gif:https://www.kulturzentrum3klang.de/wp-content/uploads/2019/04/HIQ3.gif
END:VEVENT
END:VCALENDAR