BEGIN:VCALENDAR
VERSION:2.0
PRODID:-//Kulturzentrum3Klang - ECPv4.4.4//NONSGML v1.0//EN
CALSCALE:GREGORIAN
METHOD:PUBLISH
X-WR-CALNAME:Kulturzentrum3Klang
X-ORIGINAL-URL:https://www.kulturzentrum3klang.de
X-WR-CALDESC:Events for Kulturzentrum3Klang
BEGIN:VEVENT
DTSTART;TZID=Europe/Berlin:20170909T190000
DTEND;TZID=Europe/Berlin:20170909T190000
DTSTAMP:20260420T073537
CREATED:20170313T193202Z
LAST-MODIFIED:20170905T215913Z
UID:225-1504983600-1504983600@www.kulturzentrum3klang.de
SUMMARY:Großes Eröffnungs-Wochenende des Kulturzentrum3Klang I - Ausverkauft!
DESCRIPTION:Die offizielle Eröffnung des Kulturzentrum3klang wird am 09. September abends mit einem Konzert und am 10. September vormittags mit einem Brunchkonzert gefeiert. Es werden sehr hochkarätige Musiker\, Professoren der Musikhochschule Frankfurt und 1. Konzertmeister großer Opernhäuser zu hören sein.\nAußerdem werden Ausstellungen in Skulpturen und Malerei gezeigt.\nDie Initiatoren des Kulturzentrums werden über die Hintergründe Ihres Vorhabens berichten\, Bilder von der Zeit des Baues zeigen und sowohl Bürgermeister Dirk Blens aus Sulzburg\, als auch der SWR werden vertreten sein.\nMusiker:\n\nIsabel von Bernstorff\, Klavier\nLaura Ruiz Ferreres\, Klarinette\nElena Graf\, Violine\nAlwina Kempf\, Violine\nMadeleine Przybyl\, Viola\nDaniel Robert Graf\, Violoncello\nBarbara Graf\, Violoncello\nEmanuel Graf\, Violoncello\nAndreas Graf\, Violoncello\n\nKünstler:\n\nDan Fahlbusch\, Skulpturen\nElsbeth Maria Tomasi\, Malerei\nElisabeth Doerr\, Skulpturen\n\nEintritt frei\, Spenden erwünscht\n\nProgramm Konzert 09.09.2017 um 19:00 Uhr\n\nWolfgang Amadeus Mozart (1756-1791)\n\nKlarinettenquintett in A-Dur KV 581\nfür Klarinette\, zwei Violinen\, Viola und Violoncello\n\n***Pause***\n\nSergei W. Rachmaninow (1873-1943)\n\nTrio Élègiaque Nr. 1 g-Moll für Violine\, Violoncello und Klavier\n\nBéla Bartók (1881-1945)\n\n„Kontraste“ für Violine\, Klarinette und Klavier
URL:https://www.kulturzentrum3klang.de/veranstaltungen/grosses-eroeffnungs-wochenende-des-kulturzentrum3klang/
LOCATION:Doretmatt 2\, Laufen\, 79295
ATTACH;FMTTYPE=image/jpeg:https://www.kulturzentrum3klang.de/wp-content/uploads/2017/03/NEF_3418.jpg
END:VEVENT
END:VCALENDAR