BEGIN:VCALENDAR
VERSION:2.0
PRODID:-//Kulturzentrum3Klang - ECPv4.4.4//NONSGML v1.0//EN
CALSCALE:GREGORIAN
METHOD:PUBLISH
X-WR-CALNAME:Kulturzentrum3Klang
X-ORIGINAL-URL:https://www.kulturzentrum3klang.de
X-WR-CALDESC:Events for Kulturzentrum3Klang
BEGIN:VEVENT
DTSTART;TZID=Europe/Berlin:20191027T120000
DTEND;TZID=Europe/Berlin:20191027T120000
DTSTAMP:20260419T173611
CREATED:20190203T214303Z
LAST-MODIFIED:20190926T190727Z
UID:3556-1572177600-1572177600@www.kulturzentrum3klang.de
SUMMARY:Meditative Gedichte von Peter Schiestl mit Musik von J.S.Bach
DESCRIPTION:Aus sehr persönlicher Perspektive beschreibt Peter Schiestl  in seinen Gedichten Momente der Freude\, der Hoffnung und der Liebe. Er dichtet sich wortgenau durch den Alltag und nimmt uns dabei mit\, weil das Erlebte\, das Erwünschte oder das Unerreichbare immer auch einen Teil von uns berührt. Wir dürfen uns also gerne und fast mit Erleichterung auf seine Ahnung von Glück einlassen.\n\nEs wird Musik von J.S.Bach zu hören sein.\n\nVerena Ehret\, Violine\n\nBarbara Graf\, Violoncello\n\n \n\n \n\nEs liest Peter Schiestl und als „Echo“ Renate Gfell\n\nEine Ahnung von Glück\n\nHeimliche Geschenke\n\nWeil ich mich mag\n\nZeugnis\n\nVoll Vertrauen\n\nGrundlose Freude\n\nAngekommen bei mir\n\nLebensregel\n\nWider besseres Wissen\n\nWünsche für dich\n\nWunschzettel\n\nWunderschöne Träume
URL:https://www.kulturzentrum3klang.de/veranstaltungen/gedichte-und-musik-mit-peter-schiestl/
ATTACH;FMTTYPE=image/jpeg:https://www.kulturzentrum3klang.de/wp-content/uploads/2019/02/Bild03-1.jpg
END:VEVENT
END:VCALENDAR