BEGIN:VCALENDAR
VERSION:2.0
PRODID:-//Kulturzentrum3Klang - ECPv4.4.4//NONSGML v1.0//EN
CALSCALE:GREGORIAN
METHOD:PUBLISH
X-WR-CALNAME:Kulturzentrum3Klang
X-ORIGINAL-URL:https://www.kulturzentrum3klang.de
X-WR-CALDESC:Events for Kulturzentrum3Klang
BEGIN:VEVENT
DTSTART;TZID=Europe/Berlin:20180128T173000
DTEND;TZID=Europe/Berlin:20180128T173000
DTSTAMP:20260420T065522
CREATED:20171005T225107Z
LAST-MODIFIED:20180125T220202Z
UID:1442-1517160600-1517160600@www.kulturzentrum3klang.de
SUMMARY:Figurentheater für Kinder und Erwachsene
DESCRIPTION:FRIDA UND DAS WUT\n\nEin Figurentheater für Kinder ab 4 Jahren nach dem gleichnamigen Bilderbuch von Mia Grau.\n\nDas Bilderbuch "Frida und das Wut" von Mia Grau ist die Geschichte von dem Mädchen Frida\, deren unkontrollierbare Wut sich in einem zotteligen Monster manifestiert. Im Laufe der Geschichte lernt Frieda das Wut zu zügeln\, weiß aber am Ende auch\, wie wichtig das Wut für sie ist...\n\nVanessa Valk ist eine preisgekrönte Figurenschauspielerin\, die Figurenspiel\, Pantomime und Musik zu einem faszinierend\, sinnlichem Spiel vereint.\n\nWeitere Infos unter http://www.fridaunddaswut.de\n\nEintritt: 15\,-€\, Kinder 5\,-€
URL:https://www.kulturzentrum3klang.de/veranstaltungen/figurentheater-fuer-kinder-und-erwachsene/
ATTACH;FMTTYPE=image/jpeg:https://www.kulturzentrum3klang.de/wp-content/uploads/2017/10/IMG_9503.jpg
END:VEVENT
END:VCALENDAR