BEGIN:VCALENDAR
VERSION:2.0
PRODID:-//Kulturzentrum3Klang - ECPv4.4.4//NONSGML v1.0//EN
CALSCALE:GREGORIAN
METHOD:PUBLISH
X-WR-CALNAME:Kulturzentrum3Klang
X-ORIGINAL-URL:https://www.kulturzentrum3klang.de
X-WR-CALDESC:Events for Kulturzentrum3Klang
BEGIN:VEVENT
DTSTART;VALUE=DATE:20190530
DTEND;VALUE=DATE:20190602
DTSTAMP:20260421T084443
CREATED:20190203T212806Z
LAST-MODIFIED:20190602T220717Z
UID:3544-1559174400-1559519999@www.kulturzentrum3klang.de
SUMMARY:Eröffnung des Europa-Festivals-Italien  mit dem Konsul und Schirmherrn Frederico Ramaioli
DESCRIPTION:Das Kulturzentrum3klang möchte sich jedes Jahr einem Europäischen Land kulturell widmen. Diese Jahr wird das erste Festival stattfinden und das Land um dessen Kultur es geht\, wird Italien sein.\n\nDer italienische Konsul\, Federico Lorenzo Ramaioli\, ist in diesem Jahr Schirmherr des Festivals.\n\n\n\nDo.\, den 30.Mai 20.00 Uhr Eröffnungskonzert mit einer Ansprache des Schirmherrn Konsul Federico Lorenzo Ramaioli und einer Ansprache des Bürgermeisters Dirk Blens.\n\nKonzertprogramm:\n\nA.Vivaldi „Vier Jahreszeiten“\n\nSolist: Francesco Sica\n\nKammerorchester 3Klang\n\n\n\n\nDer Geiger Francesco Sica wurde 1985 in eine Musikerfamilie in Catania\, Italien geboren. Mit acht Jahren bekam er seinen ersten Geigenunterricht und schloss 2003 sein Studium am Konservatorium Vincenzo Bellini in Catania mit Auszeichnung ab. Es folgte ein Aufbaustudium bei Prof. Felice Cusano an der Musikschule in Fiesole-Firenze.\n\nFrancesco ist Gewinner verschiedener nationaler und internationaler Wettbewerbe\, unter anderem des bedeutenden Wettbewerbs “Città di Vittorio Veneto” 2007. Zahlreiche Meisterkurse ergänzen seine Ausbil- dung\, so bei Daniel Rowland\, Stephan Milenkovich\, Sergey Girshenko\, Menahem Pressler\, Eberald Feltz\, Valentin Erben\, Niklas Schmidt und Ivry Gitlis.\n\nFrancesco Sica hat 2 Jahre im Theater Massimo Bellini in Catania gespielt. Er hat beim Maggio Musicale Fiorentino mitgespielt und machte verschiedene Tourneen mit dem World Youth Orchestra.\n\nSeit 2010 spielt er mit dem Trio Monte\, das neben Rundfunkmitschnitten in WDR\, SWR und Deutschlan- dfunk auch in der Londoner Wigmore Hall und in der Laeiszhalle Hamburg zu hören war. Mit dem Trio war er zu Gast bei mehreren bedeutenden Festivals\, vom Mozartfest in Würzburg und den Festpielen Meck- lenburg-Vorpommen bis zum Stift-Festival in den Niederlanden.\n\n\n\n\n\n\nWeitere Veranstaltungen\, die zu dem Italien-Festival gehören finden Sie im Folgenden auf der Website:\n\n6.Juli\, Cembalokonzert\n\n13.Juli\, Italienische Kunstausstellung\, Weinverköstigung\, Konzert\n\n14.Juli\, "Italienische Reise"\, Buchpräsentation\, kleine kulinarische Spezialitäten und Musik\n\n6.September\, Italienische Arien und italienisches Menu (Anmeldung erforderlich)\n\n7.September\, Geigenbaupräsentation und Konzert\n\n8. September\, Festivalabschluss mit der Barockoper "La Serva Padrona" von G.B.Pergolesi\n\n \n\n       \n\n 
URL:https://www.kulturzentrum3klang.de/veranstaltungen/europa-festival-italien/
ATTACH;FMTTYPE=image/jpeg:https://www.kulturzentrum3klang.de/wp-content/uploads/2019/02/jp10u86hrgpYLm3oqhJs-1.jpeg
END:VEVENT
END:VCALENDAR