BEGIN:VCALENDAR
VERSION:2.0
PRODID:-//Kulturzentrum3Klang - ECPv4.4.4//NONSGML v1.0//EN
CALSCALE:GREGORIAN
METHOD:PUBLISH
X-WR-CALNAME:Kulturzentrum3Klang
X-ORIGINAL-URL:https://www.kulturzentrum3klang.de
X-WR-CALDESC:Events for Kulturzentrum3Klang
BEGIN:VEVENT
DTSTART;TZID=Europe/Berlin:20260607T200000
DTEND;TZID=Europe/Berlin:20260607T213000
DTSTAMP:20260420T121916
CREATED:20260209T190718Z
LAST-MODIFIED:20260406T201328Z
UID:10686-1780862400-1780867800@www.kulturzentrum3klang.de
SUMMARY:Eine Holzbläserfamilie stellt sich vor...
DESCRIPTION:Tauchen Sie ein in den weichen Klang der Familie der Holzbläser begleitet vom Klavier: Oboe\, Klarinette und Fagott.\nEs spielt das 3:1 Ensemble:\nOboe - JiYoon Kim\nKlarinette - Luka Gantar\nFagott - Danielle Lurie\nKlavier - Kseniia Shor\nProgramm:\nCamille Saint-Saens (1835-1921)  – Fagott Sonate Op. 168\nJacques Ibert (1890-1962) - Cinq pieces en Trio\nFrancis Poulenc (1899-1963) - Sonate für Klarinette und Fagott\nFrancis Poulenc (1899-1963) - Trio für Oboe\, Fagott und Klavier\nErwin Schulhoff (1894-1942) - Divertissement für Klarinette\, Oboe und Fagott\nEintritt: 20 Euro
URL:https://www.kulturzentrum3klang.de/veranstaltungen/eine-holzblaeserfamilie-stellt-sich-vor/
ATTACH;FMTTYPE=image/jpeg:https://www.kulturzentrum3klang.de/wp-content/uploads/2026/02/IMG_3564-1-e1775506291234.jpg
END:VEVENT
END:VCALENDAR