BEGIN:VCALENDAR
VERSION:2.0
PRODID:-//Kulturzentrum3Klang - ECPv4.4.4//NONSGML v1.0//EN
CALSCALE:GREGORIAN
METHOD:PUBLISH
X-WR-CALNAME:Kulturzentrum3Klang
X-ORIGINAL-URL:https://www.kulturzentrum3klang.de
X-WR-CALDESC:Events for Kulturzentrum3Klang
BEGIN:VEVENT
DTSTART;TZID=Europe/Berlin:20190309T200000
DTEND;TZID=Europe/Berlin:20190309T200000
DTSTAMP:20260419T201440
CREATED:20190111T182734Z
LAST-MODIFIED:20190124T145150Z
UID:3388-1552161600-1552161600@www.kulturzentrum3klang.de
SUMMARY:Celloabend mit Emanuel Graf und Johannes Öllinger\, Gitarre
DESCRIPTION:Wir freuen uns sehr\, dass Emanuel Graf\, 1. Solocellist der Bayerischen Staatsoper München und der internationale Preisträger und Gitarrist\, Johannes Öllinger die berühmte Arpeggione von Franz Schubert in dieser schönen Besetzung\, spielen werden.\n\nProgramm: \n\n \nL.Boccerini\,  Sonate B-Dur\n                  -\nF.Schubert\, Arpeggione\nM.de Falla\, Suite populaire espagnole\n\n\n\n\n \n\nEmanuel Graf:\n\n\nDer Deutsch/Schweizer Cellist Emanuel Graf wird von der internationalen Presse als herausragendes Talent seiner Generation gefeiert.\nSeit 2014 als 1. Solocellist an der Bayerischen Staatsoper unter Kyrill Petrenko in Festanstellung engagiert\, gastierte er als 1. Solocellist u. a. beim Sinfonieorchester des Bayerischen Rundfunks\, dem SWR Symphonieorchester\, dem HR Sinfonieorchester\, an der Oper Zürich und dem Sinfonieorchester Basel\, um nur einige zu nennen.\nInternationale Tourneen führten ihn rund um den Globus in Säle wie u. a. der Carnegie Hall in New York\, dem Wiener Musikverein\, der Mailänder Scala\, in die Berliner Philharmonie\, Semper Oper Dresden\, Gewandhaus Leipzig oder dem Symphony Center in Chicago.\nGespielt hat er unter berühmten Dirigenten wie z. B. Mariss Jansons\, Zubin Metha\, Herbert Blomstedt und Kyrill Petrenko.\nSein Studium absolvierte er in Dresden und Weimar bei Wolfgang Emanuel Schmidt\, dessen Assistent er noch im Laufe des Studiums wurde.\nNoch während des Studiums wurde er 1. Solocellist an der Royal Danish Opera Kopenhagen.\nDank der großzügigen Leihgabe der Stiftung “Live“ spielt Emanuel Graf ein Violoncello von Matheo Goffriller (Venedig) aus dem Jahr 1710.\n\nJohannes Öllinger:\n\n\n\nDer Münchner Gitarrist Johannes Öllinger spielt als Solist und Kammermusiker\, in Ensembles und Orchestern. Sein Spektrum reicht von Alter Musik auf historischen und modernen Instrumenten über das klassische Gitarrenrepertoire bis hin zu zeitgenössischer Musik verschiedener Genres. Seine Hauptinstrumente sind die Konzertgitarre und die E-Gitarre\, daneben Banjo\, Mandoline\, Theorbe und E-Bass.\n\n\nAls Solist konzertierte er mit dem Ensemble Resonanz\, dem Chor des BR\,  dem Gürzenich Orchester und dem Münchener Kammerorchester u.s.w.\n\nMit Martin Steuber gründete er das Gitarrenduo steuber.öllinger\, welches sich dem zeitgenössischen Repertoire widmet und zu Festivals in Deutschland\, Polen und den USA eingeladen wurde. Im Programm datingORFEO mit Catrin Kirchner interpretiert er barocke Arien mit Western- und E-Gitarre. Mit der Volksmusik Avantgardistin Evi Keglmaier singt und spielt er Lieder und Instrumentales. Außerdem begleitet er Lesungen des Autors Alois Prinz\, dessen Biografien er mit Instrumentalmusik und Liedern kommentiert.\n\nIm Bereich der (freien) Improvisation beschäftigt er sich mit den erweiterten klanglichen Möglichkeiten seiner Instrumente im Zusammenspiel mit anderen\, mit Zufall und Ausdruck\, aber auch mit Licks und Grooves.\n\nEr schreibt und singt Songs (Playground) und Brieflieder\, deren Textbausteine den Briefen bedeutender Persönlichkeiten entnommen sind.\n\nJohannes Öllinger hatte Gitarrenunterricht bei Christian Kelnberger und Augustin Wiedemann und studierte in Berlin und Würzburg bei Daniel Göritz und Jürgen Ruck. Unter anderem erhielt er einen ersten Preis beim Bundeswettbewerb Jugend Musiziert 2000\, den dritten Preis beim IV. Concorso Internationale Ruggero Chiesa 2008\, den Stipendienpreis der Internationalen Ferienkurse für Neue Musik Darmstadt 2008\, den Leonhard und Ida Wolf Gedächtnispreis 2012 mit dem Duo steuber.öllinger\, das Musikstipendium der Landeshauptstadt München 2015  sowie den Bayerischen Kunstförderpreis 2017.\n\n\n \n\n\n\nEintritt: 15\,-€\n\n 
URL:https://www.kulturzentrum3klang.de/veranstaltungen/celloabend-mit-emanuel-graf-und-moritz-winkelmann/
ATTACH;FMTTYPE=image/jpeg:https://www.kulturzentrum3klang.de/wp-content/uploads/2019/01/Download-EManuel.jpg
END:VEVENT
END:VCALENDAR