BEGIN:VCALENDAR
VERSION:2.0
PRODID:-//Kulturzentrum3Klang - ECPv4.4.4//NONSGML v1.0//EN
CALSCALE:GREGORIAN
METHOD:PUBLISH
X-WR-CALNAME:Kulturzentrum3Klang
X-ORIGINAL-URL:https://www.kulturzentrum3klang.de
X-WR-CALDESC:Events for Kulturzentrum3Klang
BEGIN:VEVENT
DTSTART;TZID=Europe/Berlin:20181118T190000
DTEND;TZID=Europe/Berlin:20181118T190000
DTSTAMP:20260419T232956
CREATED:20180809T230748Z
LAST-MODIFIED:20181024T193657Z
UID:2762-1542567600-1542567600@www.kulturzentrum3klang.de
SUMMARY:Bolivien\, ein Dschungel voller Geigen - Lichtbildervortrag
DESCRIPTION:Die Deutsche Ärztin\, Christiane Teske\, berichtet in fesselnden Worten über ihre Erfahrungen der Leidenschaft und Hingabe für die klassische Musik\, mitten im Dschungel von Bolivien. Sie hat Kontakt in das im Dschungel befindliche Indianerdorf Urubicha. Dort ist es langjährige Tradition\, europäische Barockmusik zu spielen.\n\nWie kann Musik helfen\, über leidvolle Erfahrungen von Krankheit und Tod hinweg zu kommen\, mitten in einem Dschungel voller Gefahren.\n\nDiesen Vortrag werden Sie nie wieder vergessen...
URL:https://www.kulturzentrum3klang.de/veranstaltungen/bolivien-ein-dschungel-voller-geigen-lichtbildervortrag/
ATTACH;FMTTYPE=image/jpeg:https://www.kulturzentrum3klang.de/wp-content/uploads/2017/12/image1-e1540409798464.jpeg
END:VEVENT
END:VCALENDAR