BEGIN:VCALENDAR
VERSION:2.0
PRODID:-//Kulturzentrum3Klang - ECPv4.4.4//NONSGML v1.0//EN
CALSCALE:GREGORIAN
METHOD:PUBLISH
X-WR-CALNAME:Kulturzentrum3Klang
X-ORIGINAL-URL:https://www.kulturzentrum3klang.de
X-WR-CALDESC:Events for Kulturzentrum3Klang
BEGIN:VEVENT
DTSTART;TZID=Europe/Berlin:20190323T160000
DTEND;TZID=Europe/Berlin:20190323T160000
DTSTAMP:20260419T191634
CREATED:20190130T095551Z
LAST-MODIFIED:20190130T101307Z
UID:3528-1553356800-1553356800@www.kulturzentrum3klang.de
SUMMARY:Ausstellungseröffnung mit Tanzperformance und Musik
DESCRIPTION: \n\n\n\nWir freuen uns\, Martina August mit Ihrer Bilderausstellung und Vernissage bei uns im Kulturzentrum begrüßen zu dürfen.\nIhre Bilder\, werden bis Sonntag\, den 07. April im Kulturzentrum zu sehen sein.\nDie Vernissage wird von der Cellistin Geneviève Mégier und der Tänzerin Lucie Betz (luciebetz-dance.blogspot.com) umrahmt.\nEintritt frei\, Spenden erwünscht\n\n\n\nÖffnungszeiten der Ausstellung in Anwesenheit der Künstlerin: \nSo.\, 31.03 und So.\, 07.04.\n14.00 -17.30 Uhr\n\n\n\nAm Di.\, den 02.04.\, wird die Künstlerin Martina August eine Kunstbetrachtung mit einer Einführung in die Geomantie veranstalten.\nMartina August nennt ihre Bilder "Erdbilder"\, die zum Teil während ihrer Geomantieausbildung entstanden sind.\nEintritt: 7 Euro
URL:https://www.kulturzentrum3klang.de/veranstaltungen/ausstellungseroeffnung-mit-tanzperformance-und-musik/
ATTACH;FMTTYPE=image/jpeg:https://www.kulturzentrum3klang.de/wp-content/uploads/2019/01/August-Ausstellung.jpg
END:VEVENT
END:VCALENDAR