BEGIN:VCALENDAR
VERSION:2.0
PRODID:-//Kulturzentrum3Klang - ECPv4.4.4//NONSGML v1.0//EN
CALSCALE:GREGORIAN
METHOD:PUBLISH
X-WR-CALNAME:Kulturzentrum3Klang
X-ORIGINAL-URL:https://www.kulturzentrum3klang.de
X-WR-CALDESC:Events for Kulturzentrum3Klang
BEGIN:VEVENT
DTSTART;TZID=Europe/Berlin:20180209T190000
DTEND;TZID=Europe/Berlin:20180209T190000
DTSTAMP:20260420T054047
CREATED:20171211T173508Z
LAST-MODIFIED:20180125T220027Z
UID:1851-1518202800-1518202800@www.kulturzentrum3klang.de
SUMMARY:Blaue Stunde am Abend- Eine Soiree mit Lyrik/Gedichten\, Musik und einer Ausstellungseröffnung mit Papierkunst
DESCRIPTION:Lyrik und Musik\n\nGerhard Stichling liest besinnliche und humorvolle Gedichte von Heinrich Heine bis Eugen Roth.\nDie Texte beschreiben das Thema Musik in Verbindungen zur Schönheit\, Liebe\, Rebellion und Spott.\nUlrich Müller-Froß bereichert die Soiree mit klassischen und modernen Stücken von Carl Philipp Emanuel Bach\nbis Arthur Honegger auf seiner Mundharmonika.\n\nAusstellungseröffnung\n\nUta Dorra setzt Papier in seinem materiellen Eigenwert ein. Farbe und Struktur\, Dichte und Schwere vermitteln\nhaptische sinnliche Qualitäten. Sie bedient sich ihrer\, wobei sie die Eigenschaften des Materials im Sinne eigener\nkünstlerischer Entscheidungen einsetzt. Sie werden der Bildidee anverwandelt und fungieren gar als deren Auslöser.\nZwischen der Wirkmächtigkeit des Materials und dem gewählten Thema kann sich eine Spannung aufbauen\,\ndie zugleich intellektuell und unmittelbar sinnlich erlebt wird.\n\nSiehe unter Kurse:\n\nAngewandte Papierkunst- Workshop mit der Papierkünstlerin Uta Dorra\n\nSamstag\, 17. Februar\, 15.00 bis 18.00 Uhr\nSonntag\, 18. Februar\, 15.00 bis 18.00 Uhr
URL:https://www.kulturzentrum3klang.de/veranstaltungen/ausstellungseroeffnung-mit-malerei-und-papierkunst-von-uta-dorra/
ATTACH;FMTTYPE=image/jpeg:https://www.kulturzentrum3klang.de/wp-content/uploads/2017/12/IMG_3239.jpg
END:VEVENT
END:VCALENDAR