BEGIN:VCALENDAR
VERSION:2.0
PRODID:-//Kulturzentrum3Klang - ECPv4.4.4//NONSGML v1.0//EN
CALSCALE:GREGORIAN
METHOD:PUBLISH
X-WR-CALNAME:Kulturzentrum3Klang
X-ORIGINAL-URL:https://www.kulturzentrum3klang.de
X-WR-CALDESC:Events for Kulturzentrum3Klang
BEGIN:VEVENT
DTSTART;TZID=Europe/Berlin:20171112T110000
DTEND;TZID=Europe/Berlin:20171207T220000
DTSTAMP:20260420T071131
CREATED:20170827T134029Z
LAST-MODIFIED:20171020T154807Z
UID:1254-1510484400-1512684000@www.kulturzentrum3klang.de
SUMMARY:Vernissage mit Bildern von Gerlinde Dettling
DESCRIPTION:\n\nHerzliche Einladung zur Ausstellungseröffnung "Neues aus dem Atelier von Gerlinde Dettling" am Sonntag\, den 12. November 2017 um 11:00 Uhr mit einführenden Worten von Hans Frick und musikalischer Umrahmung. Die Ausstellung wird vom 12.11. bis 07.12.2017 andauern.\n\n\n\n\n\n\nÖffnungszeiten:\n\nFreitags 14:00-17:00 Uhr\, bei Veranstaltungen und nach Vereinbarung: 0175 158 1038 (Gerlinde Dettling) oder 0176 6432 9560 (Barbara Graf).\n\n\n\n\n\nIm Mai 2016 ist Gerlinde Dettling mit ihrem Atelier umgezogen in den wunderschönen Raum im Kulturzentrum3klang. Eine Auswahl ihrer Bilder\, die in dieser Zeit entstanden sind\, wird sie uns bei ihrer Ausstellung "Neues aus dem Atelier... Bilder von Gerlinde Dettling"\, zeigen.\nDie Künstlerin kombiniert in ihren Bildern verschiedene Maltechniken und Materialien. Sie gestaltet mit Acryl- und Ölfarbe\, Pigmenten und Kreide auf Leinwand und Papier. Durch das Übereinanderlagern mehrerer Malschichten entsteht ein einzigartiger Farbklang.\n\nSeit 1999 stellt Gerlinde Dettling in der Region aus. Sie hat Malerei an der "Freien Hochschule für Grafikdesign und Bildende Kunst" in Freiburg studiert. Sie ist Mitbegründerin des KunstPalais Badenweiler e.V. und ist seit über 10 Jahren in der dortigen Künstlergruppe aktiv tätig.\n\nEintritt frei
URL:https://www.kulturzentrum3klang.de/veranstaltungen/ausstellung-der-bilder-von-gerlinde-dettling/
ATTACH;FMTTYPE=image/jpeg:https://www.kulturzentrum3klang.de/wp-content/uploads/2017/08/20170817-0075GERLINDE-DETTLING.jpg
END:VEVENT
END:VCALENDAR