BEGIN:VCALENDAR
VERSION:2.0
PRODID:-//Kulturzentrum3Klang - ECPv4.4.4//NONSGML v1.0//EN
CALSCALE:GREGORIAN
METHOD:PUBLISH
X-WR-CALNAME:Kulturzentrum3Klang
X-ORIGINAL-URL:https://www.kulturzentrum3klang.de
X-WR-CALDESC:Events for Kulturzentrum3Klang
BEGIN:VEVENT
DTSTART;VALUE=DATE:20170325
DTEND;VALUE=DATE:20170423
DTSTAMP:20260420T141218
CREATED:20170407T140329Z
LAST-MODIFIED:20170407T140329Z
UID:419-1490400000-1492991999@www.kulturzentrum3klang.de
SUMMARY:Ausstellung Alfred Fey - Bilder in Mischtechnik
DESCRIPTION:Abstrakte Werke in leuchtenden Farben auf einem Untergrund verschiedener Stukturmaterialien/Gesteinsmehle auf Leinwand\, farblich gestaltet mit Öl- oder Acrylfarben\, Pigmenten\,Tuschen\, Beize\, Pastellkreiden\, Bitumen\, Gips\, Rost etc. in vielschichtigem Aufbau.
URL:https://www.kulturzentrum3klang.de/veranstaltungen/ausstellung-alfred-fey-bilder-in-mischtechnik/
CATEGORIES:Ausstellungen
ATTACH;FMTTYPE=image/jpeg:https://www.kulturzentrum3klang.de/wp-content/uploads/2017/03/frey.jpg
END:VEVENT
END:VCALENDAR