BEGIN:VCALENDAR
VERSION:2.0
PRODID:-//Kulturzentrum3Klang - ECPv4.4.4//NONSGML v1.0//EN
CALSCALE:GREGORIAN
METHOD:PUBLISH
X-WR-CALNAME:Kulturzentrum3Klang
X-ORIGINAL-URL:https://www.kulturzentrum3klang.de
X-WR-CALDESC:Events for Kulturzentrum3Klang
BEGIN:VEVENT
DTSTART;TZID=Europe/Berlin:20190628T200000
DTEND;TZID=Europe/Berlin:20190628T200000
DTSTAMP:20260419T201723
CREATED:20190317T215759Z
LAST-MODIFIED:20190611T122019Z
UID:3793-1561752000-1561752000@www.kulturzentrum3klang.de
SUMMARY:Ein Abendvortrag mit Ulrich Groß -"Den eigenen Lebensplan erkennen lernen" auf dem Hintergrund der Astrologie und Psychologie
DESCRIPTION:Ausgehend von den physikalischen Aspekten menschlicher\nWahrnehmung führt dieser Vortrag zu einer Verbindung von\nNaturwissenschaft und astrologischer Sichtweise. Beide\nergänzen sich.\nDie Astrologische Psychologie nach Bruno und Louise Huber\nstellt eine systematische und anschauliche Methode bereit für\neine wertfreie und respektvolle Selbstreflexion. Ihre besondere\ngrafische Darstellung der Geburtshoroskope vermittelt einen\nunmittelbaren Eindruck für die individuellen\nPersönlichkeitsstrukturen.\nÜbersichtlich werden die Einzelfaktoren dieser Symbolbilder\nbeschrieben. Sie fügen sich zu einem transparenten\nGesamtbild\, das nicht etwa zur Unfreiheit fixiert\, sondern zu\neiner selbstverantwortlichen Eigenständigkeit und Freiheit\nverhilft\, die persönlichen Stärken und Schwächen anzunehmen\nund wertzuschätzen.\nMit vielen Beispielen bekannter Musiker und Komponisten\nmöchte ich Ihnen den Zauber astrologischer Psychologie\nsichtbar werden lassen.\n \n\n \n\n\n\nUlrich Gross\,\n\nJahrgang 1952\, verheiratet\, 4 Kinder\, 3 Enkelkinder\n\n1971 Abitur am naturwissenschaftlichen Gymnasium\n\n1971/72 Grundwehrdienst in der Bundeswehr\n\n1978 Staatsexamen Biologie und Sportwissenschaft nach Studium in Bonn\, USA und Heidelberg.\n\nSeit 1978 permanente eigene Studien in Homotoxikologie\, Homöopathie in der Naturheilpraxis\, Psychologie\, Reisen zu peruanischen Schamanen\, philippinischen Geistheilern und Sathya Sai Baba in Indien.\n\nErfahrungen bzw. Ausbildungen in Meditation\, NLP\, Bioenergetik\, Homöopathie und diverse Wege der Heilung durch Bewusstwerdung.\n\n1979-2018 Mitarbeiter im wissenschaftlichen Außendienst für homöopathische Arzneimittel mit vielfältigen Inspirationen durch Austausch mit Hunderten naturheilkundlicher Therapeuten in mehreren Regionen Deutschlands.\n\n1980 Beginn der Ausbildung am astrologisch – psychologischen Instituts ( API ) bei Bruno und Louise Huber.\n\n1985 Anerkennung mit ihrem Beraterdiplom ( Dipl. API ). Seitdem nebenberuflich Praxis astrologisch-psychologischer Lebensberatungen.\n\nTiefe Begegnungen mit vielen wunderbaren Menschen in und aus aller Welt.\n\nwww.jazudir.de
URL:https://www.kulturzentrum3klang.de/veranstaltungen/auf-den-spuren-der-sternenschrift-astrologie-vortrag-mit-seminar/
ATTACH;FMTTYPE=image/jpeg:https://www.kulturzentrum3klang.de/wp-content/uploads/2019/03/star-2651962__340.jpg
END:VEVENT
END:VCALENDAR