BEGIN:VCALENDAR
VERSION:2.0
PRODID:-//Kulturzentrum3Klang - ECPv4.4.4//NONSGML v1.0//EN
CALSCALE:GREGORIAN
METHOD:PUBLISH
X-WR-CALNAME:Kulturzentrum3Klang
X-ORIGINAL-URL:https://www.kulturzentrum3klang.de
X-WR-CALDESC:Events for Kulturzentrum3Klang
BEGIN:VEVENT
DTSTART;TZID=Europe/Berlin:20170702T200000
DTEND;TZID=Europe/Berlin:20170702T200000
DTSTAMP:20260420T073456
CREATED:20170530T125618Z
LAST-MODIFIED:20170609T170924Z
UID:775-1499025600-1499025600@www.kulturzentrum3klang.de
SUMMARY:Astor Piazzolla trifft auf Johann Sebastian Bach- Konzert mit dem Quintetto Querceto
DESCRIPTION:Die Musiker des Quintetto Querceto haben sich mit ihrem geschmeidigen\, vielfarbigen Holzbläserklang und ihrem akzentuierten Spiel die Musik des Tango für sich entdeckt.  Sie geben international Konzerte in Kammermusikbesetzung\, werden aber auch immer wieder von Orchestern wie dem SWR Orchester Baden-Baden\, den Bamberger Syphonikern u.a. verpflichtet. Preise bei internationalen Wettbewerben\, sowie Einspielungen bei Rundfunk- und Fernsehaufnahmen\, zeugen von hoher Qualität der Musiker.\n\nWeitere Informationen können Sie auf der Website des Ensembles einholen unter:\nhttp://www.quintettoquerceto.de\n\n\nMusiker: Kirsten Klopsch\, Oboe; Julien Laffaire\, Klarinette; Florian Hasel\, Englischhorn; Xenia Petersen-Blahuschek\, Fagott; Joachim Baar\, Klavier\n\nProgramm:\n-A. Piazzola: Violentango\, Milonga Triste\, Todo Buenos Aires\n\n-J.S.Bach: Triosonate BWV 526 für Klarinette\, Englischhorn und Fagott\n\n-A.Piazzola: Momentos a Doi\, La Muerte Del Angel\, El Amor\n\n-J.S.Bach: Triosonate BWV 525 für Klarinette\, Englischhorn und Fagott\n\n-A. Piazzola: Adios niño\, Escualo
URL:https://www.kulturzentrum3klang.de/veranstaltungen/astor-piazzolla-trifft-auf-johann-sebastian-bach/
END:VEVENT
END:VCALENDAR