BEGIN:VCALENDAR
VERSION:2.0
PRODID:-//Kulturzentrum3Klang - ECPv4.4.4//NONSGML v1.0//EN
CALSCALE:GREGORIAN
METHOD:PUBLISH
X-WR-CALNAME:Kulturzentrum3Klang
X-ORIGINAL-URL:https://www.kulturzentrum3klang.de
X-WR-CALDESC:Events for Kulturzentrum3Klang
BEGIN:VEVENT
DTSTART;VALUE=DATE:20170909
DTEND;VALUE=DATE:20171111
DTSTAMP:20260420T071430
CREATED:20171025T104919Z
LAST-MODIFIED:20171025T123234Z
UID:1535-1504915200-1510444799@www.kulturzentrum3klang.de
SUMMARY:Aktuelle Ausstellung im Kulturzentrum3klang von Elsbeth Maria Tomasi
DESCRIPTION:Seit der Eröffnungsfeier am 09.09.2017 ist die Ausstellung der Künstlerin Elsbeth Maria Tomasi zu sehen. Die Ausstellung der wunderschönen Bilder wird bis zum 11.11.2017 andauern und wir freuen uns über Ihren Besuch. Die Öffnungszeiten sind auf Anfrage (Barbara Graf oo49 176 64329560). Außerdem ist bei allen Veranstaltungen die Galerie geöffnet.\n\nWeitere Infos zur Künstlerin unter http://www.elsbethmariatomasi.de\n\n 
URL:https://www.kulturzentrum3klang.de/veranstaltungen/aktuelle-austellung-im-kulturzentrum3klang-von-elsbeth-thomasi/
END:VEVENT
END:VCALENDAR