BEGIN:VCALENDAR
VERSION:2.0
PRODID:-//Kulturzentrum3Klang - ECPv4.4.4//NONSGML v1.0//EN
CALSCALE:GREGORIAN
METHOD:PUBLISH
X-WR-CALNAME:Kulturzentrum3Klang
X-ORIGINAL-URL:https://www.kulturzentrum3klang.de
X-WR-CALDESC:Events for Kulturzentrum3Klang
BEGIN:VEVENT
DTSTART;VALUE=DATE:20171202
DTEND;VALUE=DATE:20171202
DTSTAMP:20260420T071937
CREATED:20171005T124912Z
LAST-MODIFIED:20171010T091526Z
UID:1405-1512172800-1512259199@www.kulturzentrum3klang.de
SUMMARY:Adventskränze binden
DESCRIPTION:Am Samstag vor dem ersten Advent sind Sie von 10:00-13:00 Uhr und\n15:00-18:00 Uhr herzlich eingeladen unter der Leitung von Gabriele Haack in geselliger Runde und schöner Atmosphäre Kränze für die Adventszeit zu binden.\n\nPreise für Material und Anleitung je nach Größe zwischen 10\,- und 20\,- €.\n\nAnmeldung erwünscht bei Gabriele Haack:\n\nE-Mail: gabrielehaack1@gmail.com\n\nTel.: 0049 1577 1844101\n\n \n\n 
URL:https://www.kulturzentrum3klang.de/veranstaltungen/adventskraenze-binden/
END:VEVENT
END:VCALENDAR