BEGIN:VCALENDAR
VERSION:2.0
PRODID:-//Kulturzentrum3Klang - ECPv4.4.4//NONSGML v1.0//EN
CALSCALE:GREGORIAN
METHOD:PUBLISH
X-WR-CALNAME:Kulturzentrum3Klang
X-ORIGINAL-URL:https://www.kulturzentrum3klang.de
X-WR-CALDESC:Events for Kulturzentrum3Klang
BEGIN:VEVENT
DTSTART;TZID=Europe/Berlin:20211218T193000
DTEND;TZID=Europe/Berlin:20211218T193000
DTSTAMP:20260421T164224
CREATED:20200121T212818Z
LAST-MODIFIED:20211119T191158Z
UID:4789-1639855800-1639855800@www.kulturzentrum3klang.de
SUMMARY:Rumänien - zeigt seine Schönheit und seine Schattenseiten - Mit Volkstümlicher Live Musik! Wird Corona bedingt verschoben
DESCRIPTION:Landesübliche Volksmusik mit Ulrike Klebahn (Akkordeon) und Mathias Berghoff (Gitarre)\, werden diesen Lichtbildervortrag umrahmen.\n\nRainer Muranyi\, ein Mann mit Visionen erzählt in Wort\, Bild und mit der Sprache der Musik über seine berührenden Entdeckungen in Rumänien. Eine wahre Bereicherung für alle Sinne...\n\nRainer Muranyi bereiste eines Tages\nRumänien. In einem Dorf sah er Kinder\nohne Schuhe herumlaufen\, Kinder\, deren\nEltern sich keine Schuhe leisten können.\nDiese Tatsache berührte ihn so sehr\, dass\ner sich auf die Suche machte\, Unterstützung\nfür dieses kleine Dorf zu suchen.\nAuf dem Weg erlebte er Unerwartetes und\nbegegnete der Schönheit des Landes...\n\n 
URL:https://www.kulturzentrum3klang.de/veranstaltungen/vortrag-rumaenien-ein-land-stellt-sich-vor-in-seiner-schoenheit-und-seinen-schattenseiten/
ATTACH;FMTTYPE=image/jpeg:https://www.kulturzentrum3klang.de/wp-content/uploads/2020/01/Rainer-Morany.jpg
END:VEVENT
END:VCALENDAR