BEGIN:VCALENDAR
VERSION:2.0
PRODID:-//Kulturzentrum3Klang - ECPv4.4.4//NONSGML v1.0//EN
CALSCALE:GREGORIAN
METHOD:PUBLISH
X-WR-CALNAME:Kulturzentrum3Klang
X-ORIGINAL-URL:https://www.kulturzentrum3klang.de
X-WR-CALDESC:Events for Kulturzentrum3Klang
BEGIN:VEVENT
DTSTART;TZID=Europe/Berlin:20211217T200000
DTEND;TZID=Europe/Berlin:20211217T200000
DTSTAMP:20260421T142818
CREATED:20201028T144145Z
LAST-MODIFIED:20211207T094330Z
UID:5512-1639771200-1639771200@www.kulturzentrum3klang.de
SUMMARY:Ein Beethovenjahr geht zu Ende...Klavierabend mit Tomoko Ogasawara\, WIRD VERSCHOBEN!!!
DESCRIPTION:Zum Ausklang des Jahres möchten wir mit der zukunftsweisenden Kraft L.v.Beethovens das alte Jahr verabschieden. Tomoko Ogasawara\, unterrichtet an der Musikhochschule Freiburg\, wird uns dieses Konzert darbieten:\n\n 3 letzte Klaviersonate von L.v. Beethoven\n Nr.30 E-dur   Op.109\n Nr.31 As-Dur Op.110\n Nr.32 c-moll   Op.111\n \nTomoko Ogasawara\n Die in Bamberg und Freiburg lebende Pianistin Tomoko Ogasawara studierte zunächst in ihrer Geburtsstadt Tokyo\, um dann für das Solistenexamen ihre musikalische Ausbildung in Berlin und Freiburg i. Br. fortzusetzen und die sie mit Auszeichnung abschloss und ihr den 1. Preis beim Deutschen Hochschulwettbewerb einbrachte. Zu ihren prägenden Lehrern gehören Georg Sava\, Tibor Hazay und Georgy Sebok\, die sie früh zu künstlerischen Erfolgen führten u. a. als Preisträgerin auf den internationalen Wettbewerben „Maria Canals“ / Barcelona und „Clara Haskil“ / Montreux.\nSeitdem gastiert Tomoko Ogasawara regelmäßig auf den Bühnen der internationalen Musikwelt solistisch und mit Orchestern. Sie konzertierte u. a. zusammen mit Albrecht Mayer\, Jörg Widmann und Tabea Zimmermann und musiziert auch in kammermusikalischen Formationen wie dem “Ensemble Abraxas“ und Klaviertrio “Franconia“.\nZum 250.Geburtsjahr von W.A. Mozart brachte sie in Deutschland und in Japan seine sämtlichen Klaviersonaten zur Aufführung. Von ihr liegen zahlreiche Rundfunkaufnahmen und CD-Einspielungen vor.\nIhre reiche musikalische Erfahrung vermittelt Tomoko Ogasawara derzeit an der Hochschule für Musik Freiburg i. Br. und auf Meisterkursen in Japan\, Deutschland und Frankreich. Zu ihren Studenten zählen Preisträger nationaler und internationaler Wettbewerbe.\n www.tomoko-ogasawara.com\n
URL:https://www.kulturzentrum3klang.de/veranstaltungen/ein-beethovenjahr-geht-zu-ende-beethoven-klavierabend-mit-tomoko-ogasawara/
ATTACH;FMTTYPE=image/jpeg:https://www.kulturzentrum3klang.de/wp-content/uploads/2020/10/TOMOKO-1-of-1-6-Kopie.jpg
END:VEVENT
END:VCALENDAR