BEGIN:VCALENDAR
VERSION:2.0
PRODID:-//Kulturzentrum3Klang - ECPv4.4.4//NONSGML v1.0//EN
CALSCALE:GREGORIAN
METHOD:PUBLISH
X-WR-CALNAME:Kulturzentrum3Klang
X-ORIGINAL-URL:https://www.kulturzentrum3klang.de
X-WR-CALDESC:Events for Kulturzentrum3Klang
BEGIN:VEVENT
DTSTART;TZID=Europe/Berlin:20211204T170000
DTEND;TZID=Europe/Berlin:20211204T170000
DTSTAMP:20260420T165353
CREATED:20211201T221907Z
LAST-MODIFIED:20211201T222140Z
UID:6274-1638637200-1638637200@www.kulturzentrum3klang.de
SUMMARY:Kunstauktion mit Friedemann Hergarten - ENTFÄLLT!!!
DESCRIPTION:Der im Umkreis bekannte Künstler Friedemann Hergarten aus Müllheim\, bietet viele seiner Aquarelle\, Zeichnungen\, Pastelle und Glasbilder zum Ersteigern an. Der Erlös geht nach Alice Springs\, Australien\, an ein neu gegründetes Kulturzentrum\, welches von seiner Tochter ins Leben gerufen wurde.\n\nDas Demeter Weingut Hardenek läd dazu zu einer Weinprobe ein.
URL:https://www.kulturzentrum3klang.de/veranstaltungen/kunstauktion-mit-friedemann-hergarten-entfaellt/
ATTACH;FMTTYPE=image/jpeg:https://www.kulturzentrum3klang.de/wp-content/uploads/2021/12/Friedemann.jpg
END:VEVENT
END:VCALENDAR