BEGIN:VCALENDAR
VERSION:2.0
PRODID:-//Kulturzentrum3Klang - ECPv4.4.4//NONSGML v1.0//EN
CALSCALE:GREGORIAN
METHOD:PUBLISH
X-WR-CALNAME:Kulturzentrum3Klang
X-ORIGINAL-URL:https://www.kulturzentrum3klang.de
X-WR-CALDESC:Events for Kulturzentrum3Klang
BEGIN:VEVENT
DTSTART;TZID=Europe/Berlin:20210714T200000
DTEND;TZID=Europe/Berlin:20210714T200000
DTSTAMP:20260424T230910
CREATED:20200806T072806Z
LAST-MODIFIED:20210621T185824Z
UID:5256-1626292800-1626292800@www.kulturzentrum3klang.de
SUMMARY:Musik\, Theater und Tanz - Ein deutsch-französischer Abend
DESCRIPTION:Wir freuen uns\, dieses heitere Musiktheater\, mit Ihnen an diesem Abend endlich teilen zu dürfen:\n\nDas Kulturzentrum3klang und der Französische Kulturverein Consonances haben sich zusammengeschlossen\, um ein fröhliches\, humor-und kontrastvolles musikalisches Programm zu gestalten. Dieses Projekt hat die Aufmerksamkeit des Deutsch-Französischen Bürgerfonds geweckt und kann Dank seiner Unterstützung aufgeführt werden.\n\n\nProst! A Nos Amours ! \nEin spektakuläres Musiktheater\, von französischen und deutschen Künstlern gestaltet\, aus der Zeit zwischen 1920  und 1960:\n\n \nLiebe und Liebelei bieten den Leitfaden. Text und Musik werden in Dialogform behandelt und erzählen eine nicht wolkenlose Liebesgeschichte\, die in Paris und Berlin spielt. Sind wir in den zwanziger Jahren\, kurz vor der Vorführung des ersten Tonfilms\, oder sind wir in die zeitlose und bewegte Welt der Liebe gerutscht?\n\nZwei Sängerinnen\, Anne-Hélène Guégan\, Französin\, und Carolin Neukamm\, Deutsche\, singen und spielen mit François Costagliola\, Schauspieler aus Besançon. Amorette istdie vierte Gestalt\, durch die Tänzerin Claudia Kraus aus Freiburg verkörpert. Begleitet werden sie von dem Pianisten Yves Descharmes\, künstlerischer Leiter von Consonances.Dialoge und Gestaltung des Programms: Liliane Tuetey-Descharmes.\n\n\n\nProgramm:\nChristoph Willibald Gluck: Le ballet des ombres heureuses (Orphée et Eurydice) 1762\nErik Satie: extraits de Sports et divertissements 1914\nErik Satie: Le Piccadilly 1904 (piano seul)\nW.R.Heymann/Gilbert: Irgendwo auf der Welt 1932\nWalter Kollo/Bernauer\, Schanzer: Unter’n Linden 1912\nAristide Bruant: Nini peau d’chien 1895\nLéo Ferré: Jolie môme 1960\nFrancis Poulenc/ M. Fombeure: Les gars qui vont à la fête 1942\nErik Satie / Martinez: Je te veux 1903\nErik Satie / D. Durante: Allons-y Chochotte 1905\nFriedrich Hollaender: Ich bin von Kopf bis Fuss auf Liebe eingestellt 1930\nFriedrich Hollaender: Johnny\, wenn du Geburtstag hast 1920\nJean Lenoir: Parlez-moi d’amour 1930\nSerge Gainsbourg: La Javanaise 1968\nHenri Betti / A. Hornez: C’est si bon 1947\nReynaldo Hahn / Th. De Viau: A Chloris 1916\nReynaldo Hahn / V. Hugo: Si mes vers avaient des ailes 1888\nFrancis Poulenc / J. Anouilh: Les chemins de l’amour 1940\nKurt Weill / B. Brecht: Die Liebe dauert oder dauert nicht 1928\nKurt Weill / B. Brecht: Surabaya Johnny 1929\nKurt Weill / M. Magre: Je ne t’aime pas 1934\nVladimir Kosma / J. Prévert: Les feuilles mortes 1950\nFrancis Lai / P. Barouh: Un homme une femme 1966\n\n\n\nDialoge und Gestaltung des Programms: Liliane Tuetey-Descharmes.\n\n\n\n\n\n\n \n\n 
URL:https://www.kulturzentrum3klang.de/veranstaltungen/europafestival-frankreich-franzoesische-melodien-chansons-deutsche-songs-theater-und-tanz/
ATTACH;FMTTYPE=image/jpeg:https://www.kulturzentrum3klang.de/wp-content/uploads/2020/08/IMG_7874.jpg
END:VEVENT
END:VCALENDAR