BEGIN:VCALENDAR
VERSION:2.0
PRODID:-//Kulturzentrum3Klang - ECPv4.4.4//NONSGML v1.0//EN
CALSCALE:GREGORIAN
METHOD:PUBLISH
X-WR-CALNAME:Kulturzentrum3Klang
X-ORIGINAL-URL:https://www.kulturzentrum3klang.de
X-WR-CALDESC:Events for Kulturzentrum3Klang
BEGIN:VEVENT
DTSTART;TZID=Europe/Berlin:20151025T110000
DTEND;TZID=Europe/Berlin:20151025T110000
DTSTAMP:20260420T133522
CREATED:20170407T135541Z
LAST-MODIFIED:20170407T135608Z
UID:415-1445770800-1445770800@www.kulturzentrum3klang.de
SUMMARY:2. Baustellenkonzert
DESCRIPTION:(Fast) Alles Liebe\nMadrigale und klassische und romantische Stücke von Brahms\, Mozart\, Haydn und Rheinberger.\n\nMusikalische Leitung Angelika Asche.
URL:https://www.kulturzentrum3klang.de/veranstaltungen/2-baustellenkonzert/
LOCATION:Doretmatt 2\, Laufen\, 79295
CATEGORIES:Konzerte
END:VEVENT
END:VCALENDAR