BEGIN:VCALENDAR
VERSION:2.0
PRODID:-//Kulturzentrum3Klang - ECPv4.4.4//NONSGML v1.0//EN
CALSCALE:GREGORIAN
METHOD:PUBLISH
X-WR-CALNAME:Kulturzentrum3Klang
X-ORIGINAL-URL:https://www.kulturzentrum3klang.de
X-WR-CALDESC:Events for Kulturzentrum3Klang
BEGIN:VEVENT
DTSTART;TZID=Europe/Berlin:20191016T200000
DTEND;TZID=Europe/Berlin:20191016T200000
DTSTAMP:20260419T153824
CREATED:20190203T214454Z
LAST-MODIFIED:20190829T170800Z
UID:3558-1571256000-1571256000@www.kulturzentrum3klang.de
SUMMARY:12 Cellisten der Cellifamily
DESCRIPTION:Programm folgt in Kürze...
URL:https://www.kulturzentrum3klang.de/veranstaltungen/12-cellisten-der-cellifamily/
ATTACH;FMTTYPE=image/jpeg:https://www.kulturzentrum3klang.de/wp-content/uploads/2019/02/Unknown-200x183.jpeg
END:VEVENT
END:VCALENDAR