BEGIN:VCALENDAR
VERSION:2.0
PRODID:-//Kulturzentrum3Klang - ECPv4.4.4//NONSGML v1.0//EN
CALSCALE:GREGORIAN
METHOD:PUBLISH
X-WR-CALNAME:Kulturzentrum3Klang
X-ORIGINAL-URL:https://www.kulturzentrum3klang.de
X-WR-CALDESC:Events for Kulturzentrum3Klang
BEGIN:VEVENT
DTSTART;TZID=Europe/Berlin:20181202T110000
DTEND;TZID=Europe/Berlin:20181202T200000
DTSTAMP:20260420T010631
CREATED:20180219T122929Z
LAST-MODIFIED:20180219T123459Z
UID:2230-1543748400-1543780800@www.kulturzentrum3klang.de
SUMMARY:Weihnachtsmarkt im Kulturzentrum3klang
DESCRIPTION:Zum 2. Mal findet ein Weihnachtsmarkt im Kulturzentrum3klang statt mit kulinarischen Überraschungen\, Kunsthandwerk und Musik mit und für Kinder.
URL:https://www.kulturzentrum3klang.de/veranstaltungen/1-kerzenscheinkonzert-im-advent/
ATTACH;FMTTYPE=image/jpeg:https://www.kulturzentrum3klang.de/wp-content/uploads/2017/10/Weihnachtsmarkt-Ravennaschlucht-Staende_grid_medium.jpg
END:VEVENT
END:VCALENDAR